BEGIN:VCALENDAR
VERSION:2.0
PRODID:-//ChamberMaster//Event Calendar 2.0//EN
METHOD:PUBLISH
X-PUBLISHED-TTL:P3D
REFRESH-INTERVAL:P3D
CALSCALE:GREGORIAN
BEGIN:VEVENT
DTSTART:20170613T003000Z
DTEND:20170613T010000Z
X-MICROSOFT-CDO-ALLDAYEVENT:FALSE
SUMMARY:Chamber Ribbon Cutting - DermaGarden
DESCRIPTION:Join us in a special Ribbon Cutting for our Chamber Member\, DermaGarden in Claremont!\n\n\n\nDermaGarden Holistic Spa and Complexion Bar is in the business of building genuine confidence within their clients. \n\n\n\nFor more details\, call the Claremont Chamber office.
X-ALT-DESC;FMTTYPE=text/html:<div data-block="true" data-editor="93a2r" data-offset-key="dfa16-0-0" style="font-family: Helvetica\, Arial\, sans-serif\; color: rgb(29\, 33\, 41)\; font-size: 12px\; white-space: pre-wrap\;">\n<div class="_1mf _1mj" data-offset-key="dfa16-0-0" style="position: relative\; direction: ltr\; font-family: inherit\;"><span style="font-size:14px\;"><span data-offset-key="dfa16-0-0">Join us in a special Ribbon Cutting for our Chamber Member\, </span><span data-offset-key="4ajq-0-0">DermaGarden in Claremont!</span></span></div>\n</div>\n\n<div data-block="true" data-editor="93a2r" data-offset-key="efbdb-0-0" style="font-family: Helvetica\, Arial\, sans-serif\; color: rgb(29\, 33\, 41)\; font-size: 12px\; white-space: pre-wrap\;">\n<div class="_1mf _1mj" data-offset-key="efbdb-0-0" style="position: relative\; direction: ltr\; font-family: inherit\;"><span style="font-size:14px\;"><span data-offset-key="efbdb-0-0">DermaGarden Holistic Spa and Complexion Bar is in the business of building genuine confidence within their clients. </span></span></div>\n</div>\n\n<div data-block="true" data-editor="93a2r" data-offset-key="fms-0-0" style="font-family: Helvetica\, Arial\, sans-serif\; color: rgb(29\, 33\, 41)\; font-size: 12px\; white-space: pre-wrap\;">\n<div class="_1mf _1mj" data-offset-key="fms-0-0" style="position: relative\; direction: ltr\; font-family: inherit\;"><span style="font-size:14px\;"><span data-offset-key="fms-0-0">For more details\, call the Claremont Chamber office.</span></span></div>\n</div>\n
LOCATION:DermaGarden 101 N Indian Hill Blvd Ste C2-200 Claremont\, CA 91711
UID:e.838.16297
SEQUENCE:3
DTSTAMP:20260424T084244Z
URL:https://business.claremontchamber.org/events/details/chamber-ribbon-cutting-dermagarden-16297
END:VEVENT

END:VCALENDAR
