BEGIN:VCALENDAR
VERSION:2.0
PRODID:-//ChamberMaster//Event Calendar 2.0//EN
METHOD:PUBLISH
X-PUBLISHED-TTL:P3D
REFRESH-INTERVAL:P3D
CALSCALE:GREGORIAN
BEGIN:VEVENT
DTSTART:20171012T003000Z
DTEND:20171012T010000Z
X-MICROSOFT-CDO-ALLDAYEVENT:FALSE
SUMMARY:Chamber Ribbon Cutting - Feeling Groovy Wellness & Cafe
DESCRIPTION:Join us in a special Ribbon Cutting for our Chamber Member\, Feeling Groovy Wellness & Cafe\, a holistic wellness center who help people be healthy and happy from the inside out.
X-ALT-DESC;FMTTYPE=text/html:<span style="color:#000000\;"><span style="font-size:12px\;"><span style="font-family:arial\;">Join us in a special Ribbon Cutting for our Chamber Member\,&nbsp\;</span></span>Feeling Groovy Wellness &amp\; Cafe<font face="arial"><span style="font-size: 12px\;">\,</span></font>&nbsp\;a holistic wellness center who help people be healthy and happy from the inside out.&nbsp\;</span>
LOCATION:Feeling Groovy Wellness & Cafe 863 W Foothill Blvd Claremont\, CA 91711
UID:e.838.16867
SEQUENCE:3
DTSTAMP:20260423T234204Z
URL:https://business.claremontchamber.org/events/details/chamber-ribbon-cutting-feeling-groovy-wellness-cafe-16867
END:VEVENT

END:VCALENDAR
