BEGIN:VCALENDAR
VERSION:2.0
PRODID:-//ChamberMaster//Event Calendar 2.0//EN
METHOD:PUBLISH
X-PUBLISHED-TTL:P3D
REFRESH-INTERVAL:P3D
CALSCALE:GREGORIAN
BEGIN:VEVENT
DTSTART:20170223T013000Z
DTEND:20170223T020000Z
X-MICROSOFT-CDO-ALLDAYEVENT:FALSE
SUMMARY:Chamber Ribbon Cutting Kinetik Performance
DESCRIPTION:Join us in a special Ribbon Cutting for our Chamber Member\, \n\nKinetik Performance!\n\n\n\nKinetik Performance provides a great fitness atmosphere for clients of all fitness levels. Not only do you receive the luxury of training in a facility all to yourself for your scheduled session\, you also get to enjoy the benefits of customized workout routines and nutritional guidance.
X-ALT-DESC;FMTTYPE=text/html:<p><span style="color:#000000\;"><span _mce_style="color: #403f42\; font-family: Arial\; font-size: 13.3333px\;" style="line-height: normal\;">Join us in a special Ribbon Cutting&nbsp\;for our Chamber Member\,&nbsp\;</span><br />\n<span _mce_style="font-size: 13.3333px\; font-family: Arial\; color: #403f42\;" style="line-height: normal\;"><strong>Kinetik Performance!</strong></span><br />\n<br />\n<span font-size:="" open="" text-align:="" white-space:="">Kinetik Performance provides a great fitness atmosphere for clients of all fitness levels. Not only do you </span></span><span font-size:="" open="" text-align:="" white-space:=""><span style="color:#000000\;">receive</span></span><span style="color:#000000\;"><span font-size:="" open="" text-align:="" white-space:=""> the luxury of training in a facility all to yourself for your scheduled session\, you also get to enjoy the benefits of customized workout routines and nutritional guidance.&nbsp\;</span></span></p>\n
LOCATION:Kinetik Performance 1336 Monte Vista Ave Ste 13 Upland\, CA 91786
UID:e.838.14722
SEQUENCE:3
DTSTAMP:20260424T165907Z
URL:https://business.claremontchamber.org/events/details/chamber-ribbon-cutting-kinetik-performance-14722
END:VEVENT

END:VCALENDAR
