BEGIN:VCALENDAR
VERSION:2.0
PRODID:-//ChamberMaster//Event Calendar 2.0//EN
METHOD:PUBLISH
X-PUBLISHED-TTL:P3D
REFRESH-INTERVAL:P3D
CALSCALE:GREGORIAN
BEGIN:VEVENT
DTSTART:20170608T190000Z
DTEND:20170608T193000Z
X-MICROSOFT-CDO-ALLDAYEVENT:FALSE
SUMMARY:Chamber Ribbon Cutting - Nothing Bundt Cakes
DESCRIPTION:Join us in a special Ribbon Cutting for our Chamber Member\,\n\nNothing Bundt Cakes!\n\n\n\nStep into a Nothing Bundt Cakes bakery and let the aroma of freshly-baked Bundt stir your senses!
X-ALT-DESC;FMTTYPE=text/html:<span style="font-size:14px\;"><span style="font-family:arial\;">Join us in a special Ribbon Cutting for our Chamber Member\,<br />\nNothing Bundt Cakes!<br />\n<br />\nStep into a Nothing Bundt Cakes bakery and let the aroma of freshly-baked Bundt stir your senses!</span></span><br />\n<br style="color: rgb(0\, 0\, 0)\; font-family: Verdana\, Arial\, Helvetica\, sans-serif\; font-size: 12px\;" />\n&nbsp\;
LOCATION:Nothing Bundt Cakes 2084 Foothill Blvd Ste H La Verne\, CA 91750
UID:e.838.16194
SEQUENCE:3
DTSTAMP:20260424T084147Z
URL:https://business.claremontchamber.org/events/details/chamber-ribbon-cutting-nothing-bundt-cakes-16194
END:VEVENT

END:VCALENDAR
