BEGIN:VCALENDAR
VERSION:2.0
PRODID:-//ChamberMaster//Event Calendar 2.0//EN
METHOD:PUBLISH
X-PUBLISHED-TTL:P3D
REFRESH-INTERVAL:P3D
CALSCALE:GREGORIAN
BEGIN:VEVENT
DTSTART:20161005T003000Z
DTEND:20161005T010000Z
X-MICROSOFT-CDO-ALLDAYEVENT:FALSE
SUMMARY:Chamber Ribbon Cutting - Prudential Advisors
DESCRIPTION:Join us in a special Ribbon Cutting for our new Chamber Member\, Prudential Advisors!\n\n\n\nFor 140 years\, Prudential Financial has helped people grow and protect their wealth. They offer individual and institutional clients a wide array of financial products and services. Today\, they are one of the world's largest financial services institutions. Prudential also has one of the most recognized and trusted brand symbols: The Rock  \, an icon of strength\, stability\, expertise and innovation.\n\n\n\nThey measure their long-term success on their ability to deliver value for shareholders\, meet customer needs\, attract and develop the best talent in their industry\, offer an inclusive work environment where employees can develop to their full potential\, and give back to the communities where they live and work.
X-ALT-DESC;FMTTYPE=text/html:<p><span style="color:#000000\;"><span style="font-family:arial\;"><span _mce_style="color: #403f42\; font-family: Arial\; font-size: 13.3333px\;" style="line-height: normal\;">Join us in a special Ribbon Cutting for our new Chamber Member\,&nbsp\;</span><span _mce_style="font-size: 13.3333px\; font-family: Arial\; color: #403f42\;" style="line-height: normal\;"><strong>Prudential Advisors</strong>!</span><br />\n<br />\nFor 140 years\, Prudential Financial&nbsp\;has helped people grow and protect their wealth. They&nbsp\;offer individual and institutional clients a wide array of financial products and services. Today\, they are one of the world&rsquo\;s largest financial services institutions.&nbsp\;Prudential also has&nbsp\;one of the most recognized and trusted brand symbols: The Rock&reg\; \, an icon of strength\, stability\, expertise and innovation.<br />\n<br />\nThey measure their long-term success on their ability to deliver value for shareholders\, meet customer needs\, attract and develop the best talent in their industry\, offer an inclusive work environment where employees can develop to their full potential\, and give back to the communities where they live and work.</span></span></p>\n\n<div class="basic-info-about" style="margin: 20px 0px 0px\; padding: 0px\; border: 0px\; font-variant-numeric: inherit\; font-stretch: inherit\; line-height: inherit\; font-family: Arial\, sans-serif\; vertical-align: baseline\;">\n<ul style="margin: 0px\; padding-right: 0px\; padding-left: 0px\; border: 0px\; font-style: inherit\; font-variant: inherit\; font-weight: inherit\; font-stretch: inherit\; line-height: inherit\; font-family: inherit\; vertical-align: baseline\; list-style: none\; overflow: hidden\;">\n	<li class="website" style="margin: 0px 6.04688px 0px 0px\; padding: 5px 0px 0px\; border: 0px\; font-style: inherit\; font-variant: inherit\; font-weight: inherit\; font-stretch: inherit\; line-height: inherit\; font-family: inherit\; vertical-align: baseline\; float: left\; width: 193.906px\; min-height: 48px\;">\n	<p>&nbsp\;</p>\n	</li>\n</ul>\n</div>\n
LOCATION:Prudential Advisors 3628 Lynoak Dr Ste 203 Claremont\, CA 91711
UID:e.838.13484
SEQUENCE:3
DTSTAMP:20260425T004701Z
URL:https://business.claremontchamber.org/events/details/chamber-ribbon-cutting-prudential-advisors-13484
END:VEVENT

END:VCALENDAR
