BEGIN:VCALENDAR
VERSION:2.0
PRODID:-//ChamberMaster//Event Calendar 2.0//EN
METHOD:PUBLISH
X-PUBLISHED-TTL:P3D
REFRESH-INTERVAL:P3D
CALSCALE:GREGORIAN
BEGIN:VEVENT
DTSTART:20170216T013000Z
DTEND:20170216T020000Z
X-MICROSOFT-CDO-ALLDAYEVENT:FALSE
SUMMARY:Chamber Ribbon Cutting - The Upper House
DESCRIPTION:Join us in a special Ribbon Cutting for our New Chamber Member\, \n\nThe Upper House!\n\n\n\nDon't wait\, treat yourself today to a complete authentic Chinese meal at The Upper House open daily located at 352 Indian Hill at Arrow Highway in the Pepper Tree Center.
X-ALT-DESC;FMTTYPE=text/html:<p><span style="font-family:arial\;"><span style="font-size:14px\;"><span style="color:#000000\;"><span _mce_style="color: #403f42\; font-family: Arial\; font-size: 13.3333px\;" style="line-height: normal\;">Join us in a special Ribbon Cutting&nbsp\;for our New Chamber Member\,&nbsp\;</span><br />\n<span _mce_style="font-size: 13.3333px\; font-family: Arial\; color: #403f42\;" style="line-height: normal\;"><strong>The Upper House!</strong></span></span><br />\n<br />\nDon&#39\;t wait\, treat yourself today to a complete authentic Chinese meal at The Upper House open daily located at 352 Indian Hill at Arrow Highway in the Pepper Tree Center.</span></span><br />\n&nbsp\;</p>\n
LOCATION:The Upper House 352 S Indian Hill Blvd Claremont\, CA 91711
UID:e.838.14930
SEQUENCE:3
DTSTAMP:20260424T194045Z
URL:https://business.claremontchamber.org/events/details/chamber-ribbon-cutting-the-upper-house-14930
END:VEVENT

END:VCALENDAR
