BEGIN:VCALENDAR
VERSION:2.0
PRODID:-//ChamberMaster//Event Calendar 2.0//EN
METHOD:PUBLISH
X-PUBLISHED-TTL:P3D
REFRESH-INTERVAL:P3D
CALSCALE:GREGORIAN
BEGIN:VEVENT
DTSTART:20180510T013000Z
DTEND:20180510T030000Z
X-MICROSOFT-CDO-ALLDAYEVENT:FALSE
SUMMARY:Chest Pain?
DESCRIPTION:What is " normal\," when to call the doctor\, when to go to the emergency room and when to call 911. Tammy Freehling\, RN\, Chest Pain Coordinator will cover different types of chest pain and the urgency associated with them. RSVP to 909.865.9858.
X-ALT-DESC;FMTTYPE=text/html:What is &quot\; normal\,&quot\; when to call the doctor\, when to go to the emergency room and when to call 911. Tammy Freehling\, RN\, Chest Pain Coordinator will cover different types of chest pain and the urgency associated with them. RSVP to 909.865.9858.
LOCATION:Pomona Valley Health Center\; 1601 N. Monte Vista\, Claremont
UID:e.838.18875
SEQUENCE:3
DTSTAMP:20260422T053023Z
URL:https://business.claremontchamber.org/events/details/chest-pain-18875
END:VEVENT

END:VCALENDAR
