BEGIN:VCALENDAR
VERSION:2.0
PRODID:-//ChamberMaster//Event Calendar 2.0//EN
METHOD:PUBLISH
X-PUBLISHED-TTL:P3D
REFRESH-INTERVAL:P3D
CALSCALE:GREGORIAN
BEGIN:VEVENT
DTSTART:20160908T000000Z
DTEND:20160908T020000Z
X-MICROSOFT-CDO-ALLDAYEVENT:FALSE
SUMMARY:Claremont Art Showcase
DESCRIPTION:This event is sponsored by Claremont Museum of Art.\n\nClaremont Artists to be\n\nShowcased at Hughes Center\n\n\n\nCome see what our local artists are doing this summer at the Second Annual Claremont Art Showcase at the Hughes Center.  Join us for the opening reception on Wednesday\, September 7 from 5:00 to 7:00 p.m. The exhibition\, presented by the City of Claremont in conjunction with the Public Art Committee\, the Claremont Museum of Art\, and Claremont Graduate University Art Business/Art Management Public Art Program\, will be on display at the Alexander Hughes Community Center through November 28. \n\n \n\nThis year's showcase will feature work by artists Carol Abbe\, Johnnie Chatman\, Sumi Foley\, Mary Hughes\, Aleta Jacobson\, Kenneth Johnson\, Jacqueline Legazcue\, Kathleen McCall\, Roz McMillan\, Paul Kittlaus\, Jacqueline Knell\, Jerry Owens\, Elizabeth Preston\, Mervyn Seldon\, Anne Seltzer\, Wendy Smith\, and Jane Park Wells. In addition\, artist Jerry Owens has completed a mural depicting the city's trees in rural and urban scenes in the College Room.
X-ALT-DESC;FMTTYPE=text/html:<span style="color:black"><span style="font-family:calibri\,sans-serif"><span style="font-size:18.0pt"><em><span style="font-size:12px\;"><span style="font-family:arial\;">This event is sponsored by Claremont Museum of Art.</span></span></em><br />\n<span style="font-family:arial\;">Claremont Artists to be<br />\nShowcased at Hughes Center</span></span></span></span><br />\n<br />\n<span style="font-size:12px\;"><span style="font-family:arial\;"><span style="color:black">Come see what our local artists are doing this summer at the Second Annual <em>Claremont Art Showcase</em> at the Hughes Center. &nbsp\;Join us for the opening reception on Wednesday\, September 7 from 5:00 to 7:00 p.m. The exhibition\, presented by the City of Claremont in conjunction with the Public Art Committee\, the Claremont Museum of Art\, and Claremont Graduate University Art Business/Art Management Public Art Program\, will be on display at the Alexander Hughes Community Center through November 28. </span><br />\n&nbsp\;<br />\n<span style="color:black">This year&rsquo\;s showcase will feature work by artists Carol Abbe\, Johnnie Chatman\, Sumi Foley\, Mary Hughes\, Aleta Jacobson\, Kenneth Johnson\, Jacqueline Legazcue\, Kathleen McCall\, Roz McMillan\, Paul Kittlaus\, Jacqueline Knell\, Jerry Owens\, Elizabeth Preston\, Mervyn Seldon\, Anne Seltzer\, Wendy Smith\, and Jane Park Wells. In addition\, artist Jerry Owens has completed a mural depicting the city&rsquo\;s trees in rural and urban scenes in the College Room.</span></span></span><br />\n&nbsp\;
LOCATION:Alexander Hughes Community Center 1700 Danbury Rd Claremont CA 91711
UID:e.838.13489
SEQUENCE:3
DTSTAMP:20260425T020511Z
URL:https://business.claremontchamber.org/events/details/claremont-art-showcase-13489
END:VEVENT

END:VCALENDAR
