BEGIN:VCALENDAR
VERSION:2.0
PRODID:-//ChamberMaster//Event Calendar 2.0//EN
METHOD:PUBLISH
X-PUBLISHED-TTL:P3D
REFRESH-INTERVAL:P3D
CALSCALE:GREGORIAN
BEGIN:VEVENT
DTSTART:20181003T170000Z
DTEND:20181003T190000Z
X-MICROSOFT-CDO-ALLDAYEVENT:FALSE
SUMMARY:Claremont Business Walk With Senator Portantino
DESCRIPTION:October 3\, 2018  10am to 12 pm.\n\n\n\n10:00am -11:00am: Business walk with Senator \n\nPortantino in the Sprouts shopping center. \n\n11:00am-12:00 pm: Meet and greet with the Senator at\n\nFeeling Groovy Wellness and Cafe!\n\nLight refreshments from Feeling Groovy's bakery provided.
X-ALT-DESC;FMTTYPE=text/html:October 3\, 2018&nbsp\; 10am to 12 pm.<br />\n<br />\n10:00am -11:00am: Business walk with Senator&nbsp\;<br />\nPortantino in the Sprouts shopping center.&nbsp\;<br />\n11:00am-12:00 pm: Meet and greet with the Senator at<br />\nFeeling Groovy Wellness and Cafe!<br />\nLight refreshments from Feeling Groovy&rsquo\;s bakery provided.
LOCATION:Sprouts Shopping Center 835 W Foothill Blvd\, Claremont\, CA 91711
UID:e.838.20300
SEQUENCE:3
DTSTAMP:20260421T124440Z
URL:https://business.claremontchamber.org/events/details/claremont-business-walk-with-senator-portantino-20300
END:VEVENT

END:VCALENDAR
