BEGIN:VCALENDAR
VERSION:2.0
PRODID:-//ChamberMaster//Event Calendar 2.0//EN
METHOD:PUBLISH
X-PUBLISHED-TTL:P3D
REFRESH-INTERVAL:P3D
CALSCALE:GREGORIAN
BEGIN:VEVENT
DTSTART:20170228T191500Z
DTEND:20170228T210000Z
X-MICROSOFT-CDO-ALLDAYEVENT:FALSE
SUMMARY:Claremont Chamber 2017 Employment Law Update
DESCRIPTION:From Minimum Wage to Marijuana and so much more! What every employer needs to know about the new 2017 laws.\n\n\n\nSeminar Presented by: JR HR Consulting LLC\n\nSponsored by: Claremont Chamber\, Southland Data Processing and JR HR Consulting LLC\n\n\n\nThis seminar will discuss the most recent changes in HR\, Payroll and Safety regulations for 2017.\n\n	"Ban the Box Background Check Legislation and how it can affect your employment application.\n	Recreational Marijuana and the Workplace\n	Minimum Wage Increase and its continuing impact\n	Recent Ruling that could impact your Rest and Meal Periods
X-ALT-DESC;FMTTYPE=text/html:<span style="font-size:14px\;"><span style="font-family:tahoma\;"><strong><em>From Minimum Wage to Marijuana and so much more! What every employer needs to know about the new 2017 laws.</em><br />\n<br />\n<span style="color:#006400\;">Seminar Presented by: JR HR Consulting LLC<br />\nSponsored by: Claremont Chamber\, Southland Data Processing and JR HR Consulting LLC</span></strong><br />\n<br />\n<b>This seminar will discuss the most recent changes in HR\, Payroll and Safety regulations for 2017.</b></span></span>\n<ul>\n	<li><span style="font-size:14px\;"><span style="font-family:tahoma\;"><b>&quot\;Ban the Box Background Check Legislation and how it can affect your employment application.</b></span></span></li>\n	<li><span style="font-size:14px\;"><span style="font-family:tahoma\;"><b>Recreational Marijuana and the Workplace</b></span></span></li>\n	<li><span style="font-size:14px\;"><span style="font-family:tahoma\;"><b>Minimum Wage Increase and its continuing impact</b></span></span></li>\n	<li><span style="font-size:14px\;"><span style="font-family:tahoma\;"><b>Recent Ruling that could impact your Rest and Meal Periods</b></span></span></li>\n</ul>\n
LOCATION:Southland Data Processing 1317 W Foothill Blvd Suite 222 Upland 91786
UID:e.838.14900
SEQUENCE:3
DTSTAMP:20260424T170255Z
URL:https://business.claremontchamber.org/events/details/claremont-chamber-2017-employment-law-update-14900
END:VEVENT

END:VCALENDAR
