BEGIN:VCALENDAR
VERSION:2.0
PRODID:-//ChamberMaster//Event Calendar 2.0//EN
METHOD:PUBLISH
X-PUBLISHED-TTL:P3D
REFRESH-INTERVAL:P3D
CALSCALE:GREGORIAN
BEGIN:VEVENT
DTSTART:20180914T003000Z
DTEND:20180914T023000Z
X-MICROSOFT-CDO-ALLDAYEVENT:FALSE
SUMMARY:Claremont Chamber Emerging Leaders Mentors Series September Mixer
DESCRIPTION:Join us for our next mentor series. \n\n\n\nRandy Lopez from JaKE Agency and Beatrice Casagran from Ophelia's Jump will be our next mentors!!\n\n \n\nBeer and wine will be available for purchase at Ophelia's Jump.\n\nFood will be available at the food truck at Last Name Brewing.\n\n\n\nPlease RSVP.  Limited seating available!!\n\n\n\nNon Members call (909) 624-1681 to RSVP. \n\n\n\nWe are a membership organization\, but non-members are welcome to attend a maximum of two events before joining the Claremont Chamber of Commerce.
X-ALT-DESC;FMTTYPE=text/html:Join us for our next mentor series.&nbsp\;<br />\n<br />\nRandy Lopez from JaKE Agency and Beatrice Casagran from Ophelia&#39\;s Jump will be our next mentors!!<br />\n&nbsp\;<br />\nBeer and wine will be available for purchase at Ophelia&#39\;s Jump.<br />\nFood will be available at the food truck at Last Name Brewing.<br />\n<br />\nPlease RSVP.&nbsp\; Limited seating available!!<br />\n<br />\nNon Members call (909) 624-1681 to RSVP.&nbsp\;<br />\n<br />\n<span style="color: rgb(29\, 33\, 41)\; font-family: Helvetica\, Arial\, sans-serif\; font-size: 14px\;">We are a membership organization\, but non-members are welcome to attend a maximum of two events before joining the Claremont Chamber of Commerce.</span>
LOCATION:Ophelia's Jump 2009 Porterfield Way Ste h\, Upland\, CA 91786
UID:e.838.20282
SEQUENCE:3
DTSTAMP:20260421T164911Z
URL:https://business.claremontchamber.org/events/details/claremont-chamber-emerging-leaders-mentors-series-september-mixer-20282
END:VEVENT

END:VCALENDAR
