BEGIN:VCALENDAR
VERSION:2.0
PRODID:-//ChamberMaster//Event Calendar 2.0//EN
METHOD:PUBLISH
X-PUBLISHED-TTL:P3D
REFRESH-INTERVAL:P3D
CALSCALE:GREGORIAN
BEGIN:VEVENT
DTSTART:20180810T003000Z
DTEND:20180810T023000Z
X-MICROSOFT-CDO-ALLDAYEVENT:FALSE
SUMMARY:Claremont Chamber Emerging Leaders Mixer (Formerly CCYP Mixer)
DESCRIPTION:Claremont Chamber Emerging Leaders Mixer - Walter's Restaurant\n\n \n\nJoin the Claremont Chamber Emerging Leaders (Formerly Claremont Chamber Young Professionals) for a night of mixing and mingling with emerging leaders who live and/or work in the Claremont area. Engage about how you can make an impact in your local community\, expand your network and learn great tricks of the trade networking with us!\n\n\n\nWe will introduce ourselves & our business\, exchange info/biz cards\, and even a special business spotlight with some MAGIC by Greg Van Holsbeck - Magician. You will not want to miss this one! \n\n\n\nAll are welcome to join!!!\n\n\n\nDont forget your business cards!!\n\n\n\nLimited Spaces Available\n\n\n\n(Please note this is a no host food or beverage event.)\n\n\n\nDon't miss this great opportunity to meet this fun and energetic group!\n\n\n\nWe are a membership organization\, but non-members are welcome to attend a maximum of two events before joining the Claremont Chamber of Commerce.
X-ALT-DESC;FMTTYPE=text/html:<div><br />\n<span style="font-size:20px\;"><strong>&#8203\;Claremont Chamber Emerging Leaders&nbsp\;Mixer - <span style="color: rgba(0\, 0\, 0\, 0.87)\; font-family: Roboto\, arial\, sans-serif\;">Walter&#39\;s Restaurant</span></strong></span></div>\n\n<div style="text-align: justify\;">&nbsp\;</div>\n\n<div style="color: rgb(113\, 113\, 113)\; font-family: Arial\, Helvetica\, sans-serif\; font-size: 14.6667px\; text-align: justify\;"><span _mce_style="background-color: #ffffff\; color: #4b4f56\; white-space: pre-wrap\; font-size: 11pt\;" style="color: rgb(75\, 79\, 86)\; white-space: pre-wrap\; font-size: 11pt\;">Join the Claremont Chamber Emerging Leaders (Formerly Claremont Chamber Young Professionals) for a night of mixing and mingling with emerging leaders who live and/or work in the Claremont area. Engage about how you can make an impact in your local community\, expand your network and learn great tricks of the trade networking with us!</span><br />\n<br />\n<span style="color: rgb(29\, 33\, 41)\; font-family: Helvetica\, Arial\, sans-serif\; font-size: 14px\;">We will introduce ourselves &amp\; our business\, exchange info/biz cards\, and even a special business spotlight with some MAGIC by&nbsp\;</span><a class="profileLink" data-hovercard="/ajax/hovercard/page.php?id=342378629631643&amp\;extragetparams=%7B%22fref%22%3A%22mentions%22%2C%22directed_target_id%22%3A286413192120578%7D" data-hovercard-prefer-more-content-show="1" href="https://www.facebook.com/Greg-Van-Holsbeck-Magician-342378629631643/?fref=mentions" style="color: rgb(54\, 88\, 153)\; cursor: pointer\; text-decoration-line: none\; font-family: Helvetica\, Arial\, sans-serif\; font-size: 14px\;">Greg Van Holsbeck - Magician</a><span style="color: rgb(29\, 33\, 41)\; font-family: Helvetica\, Arial\, sans-serif\; font-size: 14px\;">. You will not want to miss this one!&nbsp\;</span><br />\n<br />\nAll are welcome to join!!!<br />\n<br />\nDont forget your business cards!!<br />\n<br />\n<strong style="color: rgb(0\, 0\, 0)\; font-family: Arial\, Helvetica\, sans-serif\; font-size: 14.6667px\; text-align: center\;">Limited Spaces Available<br />\n<br />\n(Please note this is a no host food&nbsp\;</strong><strong style="color: rgb(0\, 0\, 0)\; font-family: Arial\, Helvetica\, sans-serif\; font-size: 14.6667px\; text-align: center\;"><strong _mce_style="font-size: 11pt\;" style="font-size: 11pt\;">or beverage event.)</strong></strong><br />\n<br />\n<strong style="color: rgb(191\, 83\, 0)\; font-family: Arial\, Helvetica\, sans-serif\; font-size: 16px\; text-align: center\;">Don&#39\;t miss this great opportunity to meet this fun&nbsp\;and energetic group!</strong><br />\n<br />\n<strong style="font-family: tahoma\; font-size: 18px\;">We are a membership organization\, but non-members are welcome to attend a maximum of two events before joining the Claremont Chamber of Commerce.&nbsp\;</strong></div>\n
LOCATION:310 Yale Ave\, Claremont\, CA 91711
UID:e.838.19777
SEQUENCE:3
DTSTAMP:20260422T021230Z
URL:https://business.claremontchamber.org/events/details/claremont-chamber-emerging-leaders-mixer-formerly-ccyp-mixer-19777
END:VEVENT

END:VCALENDAR
