BEGIN:VCALENDAR
VERSION:2.0
PRODID:-//ChamberMaster//Event Calendar 2.0//EN
METHOD:PUBLISH
X-PUBLISHED-TTL:P3D
REFRESH-INTERVAL:P3D
CALSCALE:GREGORIAN
BEGIN:VEVENT
DTSTART:20181012T003000Z
DTEND:20181012T023000Z
X-MICROSOFT-CDO-ALLDAYEVENT:FALSE
SUMMARY:Claremont Chamber Emerging Leaders Mixer (Formerly CCYP Mixer)
DESCRIPTION:Claremont Chamber Emerging Leaders - Community Service Mixer at Claremont Heritage\n\n \n\nJoin the Claremont Chamber Emerging Leaders (Formerly Claremont Chamber Young Professionals) for a night of mixing and mingling with emerging leaders who live and/or work in the Claremont area. Engage about how you can make an impact in your local community\, expand your network and learn great tricks of the trade networking with us!\n\n\n\nWe will introduce ourselves & our business\, exchange info/biz cards. \n\n\n\nIn order to attend you have to bring canned goods and then we will fill out a warm welcome greeting card to be delivered to the elderly.\n\n\n\nYou will not want to miss this one! \n\n\n\nAll are welcome to join!!!\n\n\n\nDont forget your business cards!!\n\n\n\nLimited Spaces Available\n\n\n\n(Please note this is a no host food or beverage event.)\n\n\n\nDon't miss this great opportunity to meet this fun and energetic group!\n\n\n\nWe are a membership organization\, but non-members are welcome to attend a maximum of two events before joining the Claremont Chamber of Commerce.
X-ALT-DESC;FMTTYPE=text/html:<div><br />\n<span style="font-size:20px\;"><strong>&#8203\;Claremont Chamber Emerging Leaders&nbsp\;- <font color="rgba(0\, 0\, 0\, 0.870588235294118)" face="Roboto\, arial\, sans-serif">Community Service Mixer at Claremont Heritage</font></strong></span></div>\n\n<div style="text-align: justify\;">&nbsp\;</div>\n\n<div style="color: rgb(113\, 113\, 113)\; font-family: Arial\, Helvetica\, sans-serif\; font-size: 14.6667px\; text-align: justify\;"><span _mce_style="background-color: #ffffff\; color: #4b4f56\; white-space: pre-wrap\; font-size: 11pt\;" style="color: rgb(75\, 79\, 86)\; white-space: pre-wrap\; font-size: 11pt\;">Join the Claremont Chamber Emerging Leaders (Formerly Claremont Chamber Young Professionals) for a night of mixing and mingling with emerging leaders who live and/or work in the Claremont area. Engage about how you can make an impact in your local community\, expand your network and learn great tricks of the trade networking with us!</span><br />\n<br />\nWe will introduce ourselves &amp\; our business\, exchange info/biz cards.&nbsp\;<br />\n<br />\nIn order to attend you have to bring canned goods and then we will fill out a warm welcome greeting card to be delivered to the elderly.<br />\n<br />\nYou will not want to miss this one!&nbsp\;<br />\n<br />\nAll are welcome to join!!!<br />\n<br />\nDont forget your business cards!!<br />\n<br />\n<strong style="color: rgb(0\, 0\, 0)\; font-family: Arial\, Helvetica\, sans-serif\; font-size: 14.6667px\; text-align: center\;">Limited Spaces Available<br />\n<br />\n(Please note this is a no host food&nbsp\;</strong><strong style="color: rgb(0\, 0\, 0)\; font-family: Arial\, Helvetica\, sans-serif\; font-size: 14.6667px\; text-align: center\;"><strong _mce_style="font-size: 11pt\;" style="font-size: 11pt\;">or beverage event.)</strong></strong><br />\n<br />\n<strong style="color: rgb(191\, 83\, 0)\; font-family: Arial\, Helvetica\, sans-serif\; font-size: 16px\; text-align: center\;">Don&#39\;t miss this great opportunity to meet this fun&nbsp\;and energetic group!</strong><br />\n<br />\n<strong style="font-family: tahoma\; font-size: 18px\;">We are a membership organization\, but non-members are welcome to attend a maximum of two events before joining the Claremont Chamber of Commerce.&nbsp\;</strong></div>\n
LOCATION:840 N Indian Hill Blvd\, Claremont\, CA 91711
UID:e.838.20303
SEQUENCE:3
DTSTAMP:20260421T104459Z
URL:https://business.claremontchamber.org/events/details/claremont-chamber-emerging-leaders-mixer-formerly-ccyp-mixer-20303
END:VEVENT

END:VCALENDAR
