BEGIN:VCALENDAR
VERSION:2.0
PRODID:-//ChamberMaster//Event Calendar 2.0//EN
METHOD:PUBLISH
X-PUBLISHED-TTL:P3D
REFRESH-INTERVAL:P3D
CALSCALE:GREGORIAN
BEGIN:VEVENT
DTSTART:20171205T200000Z
DTEND:20171205T210000Z
X-MICROSOFT-CDO-ALLDAYEVENT:FALSE
SUMMARY:Claremont Chamber Lunch Mob!
DESCRIPTION:Join the Claremont Chamber for our very first Lunch Mob!!\n\nEnjoy a great lunch while supporting Eddie's Italian Eatery.  Members supporting members is what the Chamber is all about!!\n\nBring friends! Bring co-workers! Join us between 12:00 pm and 1:00 pm\, order from the menu\, and pay for you own lunch.\n\nAll we ask is that you RSVP so we can give the restaurant an idea of how many members will be mobbing them!!!
X-ALT-DESC;FMTTYPE=text/html:<span style="font-size:14px\;"><strong>Join the Claremont Chamber for our very first Lunch Mob!!</strong></span><br />\n<span style="color:black\;">Enjoy a great lunch while supporting Eddie&rsquo\;s Italian Eatery. &nbsp\;Members supporting members is what the Chamber is all about!!</span><br />\nBring friends! Bring co-workers! Join us between 12:00 pm&nbsp\;and 1:00 pm\, order from the menu\, and pay for you own lunch.<br />\nAll we ask is that you RSVP so we can give the restaurant an idea of how many members will be mobbing them!!!<br />\n&nbsp\;
LOCATION:Eddie's Italian Eatery 1065 W. Foothill Boulevard Claremont\, Ca 91711
UID:e.838.16932
SEQUENCE:3
DTSTAMP:20260423T091600Z
URL:https://business.claremontchamber.org/events/details/claremont-chamber-lunch-mob-16932
END:VEVENT

END:VCALENDAR
