BEGIN:VCALENDAR
VERSION:2.0
PRODID:-//ChamberMaster//Event Calendar 2.0//EN
METHOD:PUBLISH
X-PUBLISHED-TTL:P3D
REFRESH-INTERVAL:P3D
CALSCALE:GREGORIAN
BEGIN:VEVENT
DTSTART:20180403T190000Z
DTEND:20180403T203000Z
X-MICROSOFT-CDO-ALLDAYEVENT:FALSE
SUMMARY:Claremont Chamber Lunch Mob
DESCRIPTION:Claremont Chamber Presents\n\nLunch Mob!\n\n\n\nSupport a local Chamber Member by joining the Claremont Chamber for our quarterly lunch mob.\n\n\n\nEat! Network! Support!
X-ALT-DESC;FMTTYPE=text/html:Claremont Chamber Presents<br />\nLunch Mob!<br />\n<br />\nSupport a local Chamber Member by joining the Claremont Chamber for our quarterly lunch mob.<br />\n<br />\nEat! Network! Support!
LOCATION:Mr. D's Diner 401 E Foothill Blvd. Pomona\, CA 91767
UID:e.838.16936
SEQUENCE:3
DTSTAMP:20260422T100622Z
URL:https://business.claremontchamber.org/events/details/claremont-chamber-lunch-mob-16936
END:VEVENT

END:VCALENDAR
