BEGIN:VCALENDAR
VERSION:2.0
PRODID:-//ChamberMaster//Event Calendar 2.0//EN
METHOD:PUBLISH
X-PUBLISHED-TTL:P3D
REFRESH-INTERVAL:P3D
CALSCALE:GREGORIAN
BEGIN:VEVENT
DTSTART:20161022T160000Z
DTEND:20161023T000000Z
X-MICROSOFT-CDO-ALLDAYEVENT:FALSE
SUMMARY:Claremont Chamber of Commerce Annual Village Venture Arts & Crafts Faire
DESCRIPTION:Village Venture Arts & Crafts Faire has become the annual event where family\, friends & neighbors meet to explore The Claremont Village\, which is filled with 500 arts & crafts booths including: photography\, pottery\, jewelry\, clothing\, and garden novelty ornaments. Bring your family and friends to discover village businesses on both sides of Indian Hill open all day. Whether you're looking to get an early on your holiday shopping or that special gift\, you'll find something unique for everyone on your list! Sit and relax at one of our sidewalk cafes or enjoy the international cuisine located on First Street.\n\n \n\n    Come stroll the scenic and quaint shops and restaurants along with the over 15\,000 visitors who attend Village Venture Arts & Crafts Faire every year!
X-ALT-DESC;FMTTYPE=text/html:<p>&nbsp\;&nbsp\;&nbsp\;&nbsp\;<strong><span style="color:darkorange\;"><span style="font-size:16.0pt\;">Village Venture Arts &amp\; Crafts Faire</span></span></strong> has become <em><strong>the </strong></em>annual event where family\, friends &amp\; neighbors meet to explore The Claremont Village\, which is filled with 500 arts &amp\; crafts booths including: photography\, pottery\, jewelry\, clothing\, and garden novelty ornaments. Bring your family and friends to discover village businesses on both sides of Indian Hill open all day. Whether you&rsquo\;re looking to get an early on your holiday shopping or that special gift\, you&rsquo\;ll find something unique for everyone on your list! Sit and relax at one of our sidewalk cafes or enjoy the international cuisine located on First Street.<br />\n&nbsp\;<br />\n&nbsp\;&nbsp\;&nbsp\;&nbsp\;Come stroll the scenic and quaint shops and restaurants along with the over 15\,000 visitors who attend Village Venture Arts &amp\; Crafts Faire every year!</p>\n
LOCATION:The Claremont Village The following streets are full of booths and closed to traffic: Bonita\, Second and First between Indian Hill and College Yale and Harvard from Fourth ( Fourth is not closed)
UID:e.838.2125
SEQUENCE:3
DTSTAMP:20260425T232435Z
URL:https://business.claremontchamber.org/events/details/claremont-chamber-of-commerce-annual-village-venture-arts-crafts-faire-10-22-2016-2125
END:VEVENT

END:VCALENDAR
