BEGIN:VCALENDAR
VERSION:2.0
PRODID:-//ChamberMaster//Event Calendar 2.0//EN
METHOD:PUBLISH
X-PUBLISHED-TTL:P3D
REFRESH-INTERVAL:P3D
CALSCALE:GREGORIAN
BEGIN:VEVENT
DTSTART;VALUE=DATE:20190101
DTEND;VALUE=DATE:20190102
TRANSP:TRANSPARENT
X-MICROSOFT-CDO-ALLDAYEVENT:TRUE
SUMMARY:Claremont Chamber of Commerce Will be Closed on New Year's Day
DESCRIPTION:
X-ALT-DESC;FMTTYPE=text/html:
LOCATION:
UID:e.838.21451
SEQUENCE:3
DTSTAMP:20260420T230012Z
URL:https://business.claremontchamber.org/events/details/claremont-chamber-of-commerce-will-be-closed-on-new-year-s-day-21451
END:VEVENT

END:VCALENDAR
