BEGIN:VCALENDAR
VERSION:2.0
PRODID:-//ChamberMaster//Event Calendar 2.0//EN
METHOD:PUBLISH
X-PUBLISHED-TTL:P3D
REFRESH-INTERVAL:P3D
CALSCALE:GREGORIAN
BEGIN:VEVENT
DTSTART:20160814T220000Z
DTEND:20160814T230000Z
X-MICROSOFT-CDO-ALLDAYEVENT:FALSE
SUMMARY:Claremont Energy Challenge Coffee
DESCRIPTION:This event is sponsored by Sustainable Claremont.\n\n\n\nThis event will be a gathering of neighbors and friends to learn about ways that we can lower our utility bills and help the environment. We will engage in a discussion led by Anne Bremer\, Claremont Energy Challenge Program Manager for Sustainable Claremont. Anne will speak to the benefits of energy efficiency and Claremont's bid to win the $5 million Georgetown University Energy Prize. Refreshments will be served.
X-ALT-DESC;FMTTYPE=text/html:<em>This event is sponsored by Sustainable Claremont.</em><br />\n<br />\nThis event will be a gathering of neighbors and friends to learn about ways that we can lower our utility bills and help the environment. We will engage in a discussion led by Anne Bremer\, Claremont Energy Challenge Program Manager for Sustainable Claremont. Anne will speak to the benefits of energy efficiency and Claremont&#39\;s bid to win the $5 million Georgetown University Energy Prize. Refreshments will be served.<br />\n<br />\n&nbsp\;
LOCATION:RSVP to abremer@sustainableclaremont.org or (909) 447-9664 by Saturday\, August 13th for details.
UID:e.838.12482
SEQUENCE:3
DTSTAMP:20260425T033412Z
URL:https://business.claremontchamber.org/events/details/claremont-energy-challenge-coffee-08-14-2016-12482
END:VEVENT

END:VCALENDAR
