BEGIN:VCALENDAR
VERSION:2.0
PRODID:-//ChamberMaster//Event Calendar 2.0//EN
METHOD:PUBLISH
X-PUBLISHED-TTL:P3D
REFRESH-INTERVAL:P3D
CALSCALE:GREGORIAN
BEGIN:VEVENT
DTSTART;VALUE=DATE:20161226
DTEND;VALUE=DATE:20161227
TRANSP:TRANSPARENT
X-MICROSOFT-CDO-ALLDAYEVENT:TRUE
SUMMARY:CLOSED - Christmas Holiday
DESCRIPTION:CLOSED in observance of the Christmas Holiday.
X-ALT-DESC;FMTTYPE=text/html:CLOSED in observance of the Christmas Holiday.
LOCATION:
UID:e.838.14717
SEQUENCE:3
DTSTAMP:20260424T232636Z
URL:https://business.claremontchamber.org/events/details/closed-christmas-holiday-14717
END:VEVENT

END:VCALENDAR
