BEGIN:VCALENDAR
VERSION:2.0
PRODID:-//ChamberMaster//Event Calendar 2.0//EN
METHOD:PUBLISH
X-PUBLISHED-TTL:P3D
REFRESH-INTERVAL:P3D
CALSCALE:GREGORIAN
BEGIN:VEVENT
DTSTART:20180505T150000Z
DTEND:20180505T200000Z
X-MICROSOFT-CDO-ALLDAYEVENT:FALSE
SUMMARY:Communitywide Yard Sale
DESCRIPTION:Community-wide Yard Sale\n\nSpaces now on sale! Cost per space is $30 or 2 for $50. Additional spaces are $25 up to six spaces total. No Refunds. For information call 909-626-7847
X-ALT-DESC;FMTTYPE=text/html:<br />\n<br />\n&#8203\;Community-wide Yard Sale<br />\nSpaces now on sale! Cost per space is $30 or 2 for $50. Additional spaces are $25 up to six spaces total. No Refunds. For information call 909-626-7847&nbsp\;\n<div>&nbsp\;</div>\n
LOCATION:Cahuilla Park\, Claremont On the Corner of Indian Hill and Scripps Drive
UID:e.838.17783
SEQUENCE:3
DTSTAMP:20260422T085020Z
URL:https://business.claremontchamber.org/events/details/communitywide-yard-sale-17783
END:VEVENT

END:VCALENDAR
