BEGIN:VCALENDAR
VERSION:2.0
PRODID:-//ChamberMaster//Event Calendar 2.0//EN
METHOD:PUBLISH
X-PUBLISHED-TTL:P3D
REFRESH-INTERVAL:P3D
CALSCALE:GREGORIAN
BEGIN:VEVENT
DTSTART:20180110T200000Z
DTEND:20180110T213000Z
X-MICROSOFT-CDO-ALLDAYEVENT:FALSE
SUMMARY:Complimentary Mortgage\, Estate & Financial Planning Seminar
DESCRIPTION:FREE AND OPEN TO THE PUBLIC | COME LEARN!\nThis event is proudly brought to you by the Rhoades Lending Team of PERL Mortgage-Claremont and the Law Offices of Tanya L. Willis. You deserve to live your best life\; navigating the estate planning process and your mortgage or finances during your retirement should be the least of your worries! With 25+ years of experience in their respective industries\, Susana Rhoades and Tanya Willis are local experts you can trust. Please join us for our complimentary community education seminar to learn how we can help you live your best life.\n\n \nIt is common to have questions on the implications of a Living Trust or Reverse Mortgage\, and if they make sense for you or your loved ones. You may be wondering\, \n \n\nWhat is the difference between a Living Trust and a Will?\n\n\n\nHow can we best avoid the time and expense of probate and conservatorship?\n\n\n\nHow do we appoint someone to make health care decisions?\n\n\n\nHow do we know if a reverse mortgage is appropriate for us?\n\n\n\nHow much equity do we need?\n\n\n\nHow can buying a home and retiring be possible?\n\n\n\nHow could an equity line of credit help us from running out of assets?\n\n\n\nIs it possible to buy a house\, have no house payment\, and still receive additional income through the HECM program? \n\nJoin us January 10th at noon for answers to these questions and more!\n\n \n\n**We will also be featuring Patrice S. Cavitt\, a Business and Financial Advisor.**\n\nShe will be speaking on the top tips for achieving and maintaining healthy finances in 2018. \n\n \n\n\n\nLunch will be provided. RSVPs are appreciated\, and guests are welcome!
X-ALT-DESC;FMTTYPE=text/html:<div style="text-align:center"><strong><span style="font-size:16px">FREE AND OPEN TO THE PUBLIC | COME LEARN!</span></strong></div>\n<span style="font-size:14px">This event is proudly brought to you by the Rhoades Lending Team of PERL Mortgage-Claremont and the Law Offices of Tanya L. Willis. You deserve to live your best life\; navigating the estate planning process and your mortgage or finances during your retirement should be the least of your worries! With 25+ years of experience in their respective industries\, Susana Rhoades and Tanya Willis are local experts you can trust. Please join us for our complimentary community education seminar to learn how we can help you live your best life.</span><br />\n&nbsp\;\n<div style="text-align:center"><span style="font-size:16px"><span style="font-family:arial\,helvetica\,sans-serif"><strong><span style="color:rgb(0\, 112\, 192)">It is common to have questions on the implications of a Living Trust or Reverse Mortgage\, and if they make sense for you or your loved ones. You may be wondering\,&nbsp\;</span></strong></span></span></div>\n&nbsp\;<br />\n<span style="font-size:14px"><span style="font-family:arial\,helvetica\,sans-serif"><em><span style="color:#424242">What is the difference between a Living Trust and a Will?</span></em></span></span><br />\n<br />\n<span style="font-size:14px"><span style="font-family:arial\,helvetica\,sans-serif"><em><span style="color:#424242">How can we best avoid the time and expense of probate and conservatorship?</span></em></span></span><br />\n<br />\n<span style="font-size:14px"><span style="font-family:arial\,helvetica\,sans-serif"><em><span style="color:#424242">How do we appoint someone to make health care decisions?</span></em></span></span><br />\n<br />\n<span style="font-size:14px"><span style="font-family:arial\,helvetica\,sans-serif"><em><span style="color:#424242">How do we know if a reverse mortgage is appropriate for us?</span></em></span></span><br />\n<br />\n<span style="font-size:14px"><span style="font-family:arial\,helvetica\,sans-serif"><em><span style="color:#424242">How much equity do we need?</span></em></span></span><br />\n<br />\n<span style="font-size:14px"><span style="font-family:arial\,helvetica\,sans-serif"><em><span style="color:#424242">How can buying a home and retiring be possible?</span></em></span></span><br />\n<br />\n<span style="font-size:14px"><span style="font-family:arial\,helvetica\,sans-serif"><em><span style="color:#424242">How could an equity line of credit help us from running out of assets?</span></em></span></span><br />\n<br />\n<span style="font-size:14px"><span style="font-family:arial\,helvetica\,sans-serif"><em><span style="color:#424242">Is it possible to buy a house\, have no house payment\, and still receive&nbsp\;additional income through the HECM program?</span></em></span></span>&nbsp\;\n\n<div style="text-align:center"><span style="font-size:16px"><strong><span style="color:#0070C0"><span style="font-family:arial\,sans-serif">Join us January 10<sup>th</sup> at noon for answers to these questions and more!</span></span></strong></span></div>\n\n<div style="text-align:center">&nbsp\;</div>\n\n<div style="text-align:center"><span style="font-size:14px"><strong>**We will also be featuring Patrice S. Cavitt\, a Business and Financial Advisor.**</strong></span></div>\n\n<div style="text-align:center"><em><span style="font-size:14px">She will be speaking on the top tips for achieving and maintaining healthy finances in 2018.&nbsp\;</span><br />\n&nbsp\;<br />\n<br />\nLunch will be provided. RSVPs are appreciated\, and guests are welcome!<br />\n&nbsp\;</em></div>\n
LOCATION:PERL Mortgage - Claremont 250 West 1st Street\, Suite 346 Claremont\, CA 91711
UID:e.838.17271
SEQUENCE:3
DTSTAMP:20260423T025155Z
URL:https://business.claremontchamber.org/events/details/complimentary-mortgage-estate-and-financial-planning-seminar-17271
END:VEVENT

END:VCALENDAR
