BEGIN:VCALENDAR
VERSION:2.0
PRODID:-//ChamberMaster//Event Calendar 2.0//EN
METHOD:PUBLISH
X-PUBLISHED-TTL:P3D
REFRESH-INTERVAL:P3D
CALSCALE:GREGORIAN
BEGIN:VEVENT
DTSTART:20160929T013000Z
DTEND:20160929T030000Z
X-MICROSOFT-CDO-ALLDAYEVENT:FALSE
SUMMARY:Crossfit
DESCRIPTION:This event is sponsored by Pomona Valley Health Center.\n\n\n\nCrossfit is the current fitness rage. Find out what it is\, who it is for and how it can improve your fitness and overall health no matter what your age or current fitness level.
X-ALT-DESC;FMTTYPE=text/html:<span style="font-family:arial\;"><em>This event is sponsored by&nbsp\;Pomona Valley Health Center.</em><br />\n<br />\nCrossfit is the current fitness rage. Find out what it is\, who it is for and how it can improve your fitness and overall health no matter what your age or current fitness level.&nbsp\;</span>
LOCATION:Pomona Valley Health Center 1601 N Monte Vista Ave Claremont Ca 91711
UID:e.838.13492
SEQUENCE:3
DTSTAMP:20260425T015413Z
URL:https://business.claremontchamber.org/events/details/crossfit-13492
END:VEVENT

END:VCALENDAR
