BEGIN:VCALENDAR
VERSION:2.0
PRODID:-//ChamberMaster//Event Calendar 2.0//EN
METHOD:PUBLISH
X-PUBLISHED-TTL:P3D
REFRESH-INTERVAL:P3D
CALSCALE:GREGORIAN
BEGIN:VEVENT
DTSTART:20180916T003000Z
DTEND:20180916T050000Z
X-MICROSOFT-CDO-ALLDAYEVENT:FALSE
SUMMARY:David & Margaret Youth and Family Services 11th Annual 'Growing Together' Gala to Benefit Youth in Foster Care
DESCRIPTION:Join David & Margaret Youth and Family Services for our annual 'Growing Together' gala! Celebrity host: Alec Mapa\, GLAAD award-winning actor\, playwright\, journalist\, and comedian. Hear inspiring stories about the resilience of youth in foster care. Enjoy a gourmet meal\, award-winning wines\, silent auction and raffle\, craft beer tasting\, and live music.
X-ALT-DESC;FMTTYPE=text/html:Join David &amp\; Margaret Youth and Family Services for our annual &#39\;Growing Together&#39\; gala! Celebrity host: Alec Mapa\, GLAAD award-winning actor\, playwright\, journalist\, and comedian. Hear inspiring stories about the resilience of youth in foster care. Enjoy a gourmet meal\, award-winning wines\, silent auction and raffle\, craft beer tasting\, and live music.
LOCATION:Glendora Country Club 2400 Country Club Dr. Glendora\, CA 91741
UID:e.838.19784
SEQUENCE:3
DTSTAMP:20260421T170245Z
URL:https://business.claremontchamber.org/events/details/david-margaret-youth-and-family-services-11th-annual-growing-together-gala-to-benefit-youth-in-foster-care-19784
END:VEVENT

END:VCALENDAR
