BEGIN:VCALENDAR
VERSION:2.0
PRODID:-//ChamberMaster//Event Calendar 2.0//EN
METHOD:PUBLISH
X-PUBLISHED-TTL:P3D
REFRESH-INTERVAL:P3D
CALSCALE:GREGORIAN
BEGIN:VEVENT
DTSTART:20170806T010000Z
DTEND:20170806T040000Z
X-MICROSOFT-CDO-ALLDAYEVENT:FALSE
SUMMARY:Dee Marcellus Cole and Carnival Seekers Opening Reception
DESCRIPTION:This event is sponsored by Claremont Museum of Art.\n\n\n\nJoin us for the opening of "Dee Marcellus Cole and Carnival Seekers"\n\n\n\nInspired by her many travels to Mexico\, Guatemala and throughout South America\, Dee Marcellus Cole will transform the Claremont Depot into a Carnival of bright colors\, iconic images\, and spiritual messages. "Dee Marcellus Cole and Carnival Seekers" will present the work of eight folk artists driven\, not by the art world\, but by the instinctive need to create. \n\n\n\nThe exhibition\, generously sponsored by Gould Asset Management LLC will be on view August 4   November 26\, 2017 at Claremont Museum of Art\, 200 W. 1st St\, Claremont\n\n\n\nDee Marcellus Cole\, a self-proclaimed faux-folk artist living in Upland\, creates vibrant sculptures constructed of wood and layered paper. These colorful creatures\, whimsical in movement and spiritual in nature\, are reminiscent of Latin American culture. \n\n\n\nShe has chosen to collaborate with some of Claremont and Pomona's most distinctive artists for this exhibition including Johnnie Dominguez\, Cathy Garcia\, Sandy Garcia\, Karen and John Neiuber\, Christian Ornelas and Dan Romero to highlight celebration\, in all shapes and forms. \n\n\n\nDee Marcellus Cole earned an MA in art from the Claremont Graduate School in 1984 and taught at La Verne University for twelve years. Known as the Goddess of the Pomona Art Colony she has inspired generations of artists\, hosted studio tours\, presented workshops and been exhibited in numerous solo shows.
X-ALT-DESC;FMTTYPE=text/html:<p><span style="font-size:12px\;"><span style="font-family:arial\;"><em>This event is sponsored by Claremont Museum of Art.</em><br />\n<br />\nJoin us for the opening of &quot\;Dee Marcellus Cole and Carnival Seekers&quot\;<br />\n<br />\nInspired by her many travels to Mexico\, Guatemala and throughout South America\, Dee Marcellus Cole will transform the Claremont Depot into a Carnival of bright colors\, iconic images\, and spiritual messages. &quot\;Dee Marcellus Cole and Carnival Seekers&quot\; will present the work of eight folk artists driven\, not by the art world\, but by the instinctive need to create.&nbsp\;<br />\n<br />\nThe exhibition\, generously sponsored by Gould Asset Management LLC will be on view August 4 &ndash\; November 26\, 2017 at Claremont Museum of Art\, 200 W. 1st St\, Claremont<br />\n<br />\nDee Marcellus Cole\, a self-proclaimed faux-folk artist living in Upland\, creates vibrant sculptures constructed of wood&nbsp\;and layered paper. These colorful creatures\, whimsical in movement and spiritual in nature\, are reminiscent of Latin American culture.&nbsp\;<br />\n<br />\nShe has chosen to collaborate with some of Claremont and Pomona&rsquo\;s most distinctive artists for this exhibition including Johnnie Dominguez\, Cathy Garcia\, Sandy Garcia\, Karen and John Neiuber\, Christian Ornelas and Dan Romero to highlight celebration\, in all shapes and forms.&nbsp\;<br />\n<br />\nDee Marcellus Cole earned an MA in art from the Claremont Graduate School in 1984 and taught at La Verne University for twelve years. Known as the Goddess of the Pomona Art Colony she has inspired generations of artists\, hosted studio tours\, presented workshops and been exhibited in numerous solo shows.</span></span></p>\n
LOCATION:Claremont Museum of Art 200 W First St Claremont Ca 91711
UID:e.838.16666
SEQUENCE:3
DTSTAMP:20260424T035948Z
URL:https://business.claremontchamber.org/events/details/dee-marcellus-cole-and-carnival-seekers-opening-reception-16666
END:VEVENT

END:VCALENDAR
