BEGIN:VCALENDAR
VERSION:2.0
PRODID:-//ChamberMaster//Event Calendar 2.0//EN
METHOD:PUBLISH
X-PUBLISHED-TTL:P3D
REFRESH-INTERVAL:P3D
CALSCALE:GREGORIAN
BEGIN:VEVENT
DTSTART:20180426T220000Z
DTEND:20180427T050000Z
X-MICROSOFT-CDO-ALLDAYEVENT:FALSE
SUMMARY:Dining Out For Life 2018 at Claremont Craft Ales
DESCRIPTION:Have a beer\, make a difference! On April 26\, Claremont Craft Ales and their food vendor will donate a portion of your bill to Foothill AIDS Project. People who eat and drink there will also be eligible to enter a prize drawing as a thank you from FAP. So come and raise a glass to the end fight HIV and AIDS!
X-ALT-DESC;FMTTYPE=text/html:<span style="color:rgb(29\, 33\, 41)\; font-family:sf optimized\,system-ui\,-apple-system\,system-ui\,.sfnstext-regular\,sans-serif\; font-size:12px"><span style="font-family:inherit">Have a beer\, make a difference! On April 26\, Claremont Craft Ales and their food vendor will donate a portion of your bill to Foothill AIDS Project. People who eat and drink there will also be eligible to enter a prize drawing as a thank you from FAP. So come and raise a glass to the end fight HIV and AIDS!</span></span>
LOCATION:Claremont Craft Ales 1420 N. Claremont Blvd. Suite 204-C Claremont\, CA 91711
UID:e.838.17856
SEQUENCE:3
DTSTAMP:20260422T101359Z
URL:https://business.claremontchamber.org/events/details/dining-out-for-life-2018-at-claremont-craft-ales-17856
END:VEVENT

END:VCALENDAR
