BEGIN:VCALENDAR
VERSION:2.0
PRODID:-//ChamberMaster//Event Calendar 2.0//EN
METHOD:PUBLISH
X-PUBLISHED-TTL:P3D
REFRESH-INTERVAL:P3D
CALSCALE:GREGORIAN
BEGIN:VEVENT
DTSTART:20151016T180000Z
DTEND:20151016T220000Z
X-MICROSOFT-CDO-ALLDAYEVENT:FALSE
SUMMARY:Disability Awareness\, Health & Wellness Expo
DESCRIPTION:Service Center for Independent Life has paired up with The National Federation of the Blind of California Inland Empire Chapter to host a Disability Awareness\, Health and Wellness Expo. In the exhibit area\, attendees will learn about different companies and equipment available that provide items and services which are accessible to persons with disabilities and seniors.\n\nThe purpose of this event is to bring awareness to consumers about programs and resources in their community and to assist persons with disabilities on how to live independent lives.
X-ALT-DESC;FMTTYPE=text/html:<div style="text-align: center\;"><span style="font-family:arial\,sans-serif\; font-size:16.0pt">Service Center for Independent Life has paired up with The National Federation of the Blind of California Inland Empire Chapter to host a Disability Awareness\, Health and Wellness Expo. In the exhibit area\, attendees will learn about different companies and equipment available that provide items and services which are accessible to persons with disabilities and seniors.</span><br />\n<em><span style="font-family:arial\,sans-serif\; font-size:14.0pt">The purpose of this event is to bring awareness to consumers about programs and resources in their community and to assist persons with disabilities on how to live independent lives.</span></em></div>\n
LOCATION:107 Spring St. Claremont\, CA 91711
UID:e.838.11291
SEQUENCE:3
DTSTAMP:20260426T040307Z
URL:https://business.claremontchamber.org/events/details/disability-awareness-health-wellness-expo-10-16-2015-11291
END:VEVENT

END:VCALENDAR
