BEGIN:VCALENDAR
VERSION:2.0
PRODID:-//ChamberMaster//Event Calendar 2.0//EN
METHOD:PUBLISH
X-PUBLISHED-TTL:P3D
REFRESH-INTERVAL:P3D
CALSCALE:GREGORIAN
BEGIN:VEVENT
DTSTART:20170225T030000Z
DTEND:20170225T063000Z
X-MICROSOFT-CDO-ALLDAYEVENT:FALSE
SUMMARY:Disco Fever At Padua
DESCRIPTION:This event is sponsored by Claremont Community Foundation.\n\n\n\nCLAREMONT COMMUNITY FOUNDATION PARTY PARADE 2017 PRESENTS\n\nDISCO FEVER AT PADUA\n\n\n\nFRIDAY\, FEBRUARY 24 7-10:30 P.M. \n\nDINNER I ENTERTAINMENT I SILENT AUCTION\n\nDJ I DANCING I NO-HOST BAR\n\nPADUA HILLS THEATRE TICKETS $50 \n\n\n\nSPONSORS \n\nBroadview Mortgage - Walk on the Wild Side I Bucca di Beppo - Stoked Sangria\n\nChopin Imports Ltd. - Good Vibes Vodka I College Escrow - Dancing Queen Sponsors\n\nMike Gaumer\, State Farm Insurance - Mondo Martini Glasses I Last Name Brewing - Boss Beer Randall and Janell Lewis-Far Out Promenade I Rhino Records - Can You Dig It? Centerpieces Vom Fass - Way Cool Whiskey I Wheeler Steffen Sotheby's International Realty - You Ain't Seen Noth in' Yet I More to come ...
X-ALT-DESC;FMTTYPE=text/html:<span style="font-size:12px\;"><span style="font-family:arial\;"><em>This event is sponsored by Claremont Community Foundation.</em><br />\n<br />\nCLAREMONT COMMUNITY FOUNDATION PARTY PARADE 2017 PRESENTS<br />\n<span style="font-size:14px\;"><strong>DISCO FEVER AT PADUA</strong></span><br />\n<br />\nFRIDAY\, FEBRUARY 24 7-10:30 P.M.&nbsp\;<br />\nDINNER I ENTERTAINMENT I SILENT AUCTION<br />\nDJ I DANCING I NO-HOST BAR<br />\nPADUA HILLS THEATRE TICKETS $50&nbsp\;<br />\n<br />\nSPONSORS&nbsp\;<br />\nBroadview Mortgage - Walk on the Wild Side I Bucca di Beppo - Stoked Sangria<br />\nChopin Imports Ltd. - Good Vibes Vodka I College Escrow - Dancing Queen Sponsors<br />\nMike Gaumer\, State Farm Insurance - Mondo Martini Glasses I Last Name Brewing - Boss Beer Randall and Janell Lewis-Far Out Promenade I Rhino Records - Can You Dig It? Centerpieces Vom Fass - Way Cool Whiskey I Wheeler Steffen Sotheby&#39\;s&nbsp\;International Realty - You Ain&#39\;t Seen Noth in&#39\; Yet I More to come ...</span></span>
LOCATION:PADUA HILLS THEATRE 4467 Padua Ave\, Claremont\, CA 91711
UID:e.838.15065
SEQUENCE:3
DTSTAMP:20260424T210258Z
URL:https://business.claremontchamber.org/events/details/disco-fever-at-padua-15065
END:VEVENT

END:VCALENDAR
