BEGIN:VCALENDAR
VERSION:2.0
PRODID:-//ChamberMaster//Event Calendar 2.0//EN
METHOD:PUBLISH
X-PUBLISHED-TTL:P3D
REFRESH-INTERVAL:P3D
CALSCALE:GREGORIAN
BEGIN:VEVENT
DTSTART:20160324T210000Z
DTEND:20160324T223000Z
X-MICROSOFT-CDO-ALLDAYEVENT:FALSE
SUMMARY:Do We Really Need to Talk About It?
DESCRIPTION:A discussion of the importance of Advance Care Planning and the legal\, financial and healthcare decision making process-\n\n*Do you have an Advanced Directive?\n\n*Have you communicated your wishes for care during the last years of your life?\n\n*Do you know how to access services in the comjmunity to help with advance care planning needs?\n\nPresented by Kathy Yeatman-Stock\, LCSW\, OSW-C.\n\nCall 909.865.9858 to reserve a seat to this free informational workshop!
X-ALT-DESC;FMTTYPE=text/html:A discussion of the importance of Advance Care Planning and the legal\, financial and healthcare decision making process-<br />\n*Do you have an Advanced Directive?<br />\n*Have you communicated your wishes for care during the last years of your life?<br />\n*Do you know how to access services in the comjmunity to help with advance care planning needs?<br />\nPresented by Kathy Yeatman-Stock\, LCSW\, OSW-C.<br />\nCall 909.865.9858 to reserve a seat to this free informational workshop!
LOCATION:The Robert & Beverly Lewis Family Cancer Care Center\; 1910 Royalty Drive\, Pomona\, CA 91767
UID:e.838.11931
SEQUENCE:3
DTSTAMP:20260425T130627Z
URL:https://business.claremontchamber.org/events/details/do-we-really-need-to-talk-about-it-03-24-2016-11931
END:VEVENT

END:VCALENDAR
