BEGIN:VCALENDAR
VERSION:2.0
PRODID:-//ChamberMaster//Event Calendar 2.0//EN
METHOD:PUBLISH
X-PUBLISHED-TTL:P3D
REFRESH-INTERVAL:P3D
CALSCALE:GREGORIAN
BEGIN:VEVENT
DTSTART:20151028T213000Z
DTEND:20151028T230000Z
X-MICROSOFT-CDO-ALLDAYEVENT:FALSE
SUMMARY:Do We Really Need to Talk About It?
DESCRIPTION:A discussion on the importance of Advance Care Planning and the legal\, financial and healthcare decision  making process.\n\nDo you have an Advanced Directive?\n\nHave you communicated your wishes for care during the last years of your life?\n\nDo you know how to access services in the community to help with advance care planning needs?\n\nPresent by Kathy Yeatman-Stock\, LCSW\, OSW-C.
X-ALT-DESC;FMTTYPE=text/html:A discussion on the importance of Advance Care Planning and the legal\, financial and healthcare decision &nbsp\;making process.<br />\nDo you have an Advanced Directive?<br />\nHave you communicated your wishes for care during the last years of your life?<br />\nDo you know how to access services in the community to help with advance care planning needs?<br />\nPresent by Kathy Yeatman-Stock\, LCSW\, OSW-C.
LOCATION:The Robert & Beverly Lewis Family Cancer Care Center\, 1910 Royalty Drive\, Pomona
UID:e.838.11289
SEQUENCE:3
DTSTAMP:20260426T035129Z
URL:https://business.claremontchamber.org/events/details/do-we-really-need-to-talk-about-it-10-28-2015-11289
END:VEVENT

END:VCALENDAR
