BEGIN:VCALENDAR
VERSION:2.0
PRODID:-//ChamberMaster//Event Calendar 2.0//EN
METHOD:PUBLISH
X-PUBLISHED-TTL:P3D
REFRESH-INTERVAL:P3D
CALSCALE:GREGORIAN
BEGIN:VEVENT
DTSTART:20180421T010000Z
DTEND:20180421T030000Z
X-MICROSOFT-CDO-ALLDAYEVENT:FALSE
SUMMARY:Earth Day VIP Party
DESCRIPTION:Sponsored by Sustainable Claremont and Claremont Heritage\n\n\n\nPlease join us for an intimate cocktail party at Claremont's historic Garner House:\n\nFriday\, April 20\, 2018    \n\n6:00-8:00 pm\n\nGarner House\, 840 N Indian Hill Blvd\, Claremont\n\n\nTickets for this private fundraiser can be purchased at the door\, but reservations are preferred by emailing outreach@sustainableclaremont.org \n\n\n\nSustainable Claremont and Claremont Heritage invite you to mix and mingle with supporters\, exhibitors and sponsors of the 10th Annual Earth Day Celebration!\n\n\n\nSpecial Guest Tara Schultz\, Claremont's new City Manager\, will be in attendance\, as well as city and community leaders\, Sustainable Claremont Board Members\, and other honored guests.\n\n\n\nPlease join us by donating to Sustainable Claremont's continued "green" activities in our community!
X-ALT-DESC;FMTTYPE=text/html:<div>Sponsored by Sustainable Claremont and Claremont Heritage</div>\n\n<div style="text-align:center"><br />\n<strong>Please join us for an intimate cocktail party at Claremont&#39\;s historic Garner House:<br />\nFriday\, April 20\, 2018&nbsp\; &nbsp\;&nbsp\;<br />\n6:00-8:00 pm<br />\nGarner House\, 840 N Indian Hill Blvd\, Claremont</strong></div>\n<br />\nTickets for this private fundraiser can be purchased at the door\, but reservations are preferred by emailing outreach@sustainableclaremont.org&nbsp\;<br />\n<br />\nSustainable Claremont and Claremont Heritage invite you to mix and mingle with supporters\, exhibitors and sponsors of the 10th Annual Earth Day Celebration!<br />\n<br />\nSpecial Guest Tara Schultz\, Claremont&#39\;s new City Manager\, will be in attendance\, as well as city and community leaders\, Sustainable Claremont Board Members\, and other honored guests.<br />\n<br />\nPlease join us by donating to Sustainable Claremont&#39\;s continued &quot\;green&quot\; activities in our community!&nbsp\;
LOCATION:Garner House\, 840 N Indian Hill Blvd\, Claremont
UID:e.838.17778
SEQUENCE:3
DTSTAMP:20260422T101145Z
URL:https://business.claremontchamber.org/events/details/earth-day-vip-meet-and-greet-party-17778
END:VEVENT

END:VCALENDAR
