BEGIN:VCALENDAR
VERSION:2.0
PRODID:-//ChamberMaster//Event Calendar 2.0//EN
METHOD:PUBLISH
X-PUBLISHED-TTL:P3D
REFRESH-INTERVAL:P3D
CALSCALE:GREGORIAN
BEGIN:VEVENT
DTSTART:20161113T220000Z
DTEND:20161114T000000Z
X-MICROSOFT-CDO-ALLDAYEVENT:FALSE
SUMMARY:"Election 2016: Will Washington Work Now?" League of Women Voters " Food for Thought"
DESCRIPTION:Dr Zachary Courser\, Research Director of the Dreier Roundtable at Claremont McKenna Callege will be our speaker on "Election 2016: Will Washington Work Now?" for this "Food for Thought" public meeting\, sponsored by the Claremont Area League of Women Voters. \n\n \n\nDr. Courser has taught political science courses at several universities including Sciences Po Lyon in France.  He has published articles on political parties and democratic participation\, and is a contributor and editor of the forthcoming volume\, Parchment Barriers: Political Polarization and the Limits of Constitutional Order.  He has experience working in Washington\, DC on Capitol Hill.  He is a regular political commentator on NPR affiliate KPCC's Air Talk program in Los Angeles.  \n\n \n\nThis meeting will be held on Sunday\, November 13 from 2 to 4 PM in the Padua Room at Hughes Center\, 1700 Danbury Ave.\, Claremont.  The cost will be $35.00 for early sign-ups and $45.00 for last minute and 'at the door' sign-ups. Sign-up will be at Even Bright. \n\nFor further information go to:  www.claremont.ca.lwvnet.org or  phone: 909-624-9457.
X-ALT-DESC;FMTTYPE=text/html:Dr Zachary Courser\, Research Director of the Dreier Roundtable at Claremont McKenna Callege will be our speaker on &ldquo\;Election 2016: Will Washington Work Now?&rdquo\; for this &ldquo\;Food for Thought&rdquo\; public meeting\, sponsored by the Claremont Area League of Women Voters.&nbsp\;<br />\n&nbsp\;<br />\nDr. Courser has taught political science courses at several universities including Sciences Po Lyon in France.&nbsp\; He has published articles on political parties and democratic participation\, and is a contributor and editor of the forthcoming volume\,<em> Parchment Barriers: Political Polarization and the Limits of Constitutional Order. </em>&nbsp\;He has experience working in Washington\, DC on Capitol Hill.&nbsp\; He is a regular political commentator on NPR affiliate<em> KPCC&rsquo\;s Air Talk </em>program in Los Angeles.&nbsp\;&nbsp\;<br />\n&nbsp\;<br />\nThis meeting will be held on Sunday\, November 13 from 2 to 4 PM in the Padua Room at Hughes Center\, 1700 Danbury Ave.\, Claremont.&nbsp\; The cost will be $35.00 for early sign-ups and $45.00 for last minute and &lsquo\;at the door&rsquo\; sign-ups. Sign-up will be at Even Bright.&nbsp\;<br />\nFor further information go to:&nbsp\; <a href="http://www.claremont.ca.lwvnet.org/">www.claremont.ca.lwvnet.org</a> or&nbsp\; phone: 909-624-9457.&nbsp\;
LOCATION:Padua Room\, Hughes Center 1700 Danbury Ave Claremont Ca 91711
UID:e.838.13636
SEQUENCE:3
DTSTAMP:20260424T223058Z
URL:https://business.claremontchamber.org/events/details/election-2016-will-washington-work-now-lwv-food-for-thought-13636
END:VEVENT

END:VCALENDAR
