BEGIN:VCALENDAR
VERSION:2.0
PRODID:-//ChamberMaster//Event Calendar 2.0//EN
METHOD:PUBLISH
X-PUBLISHED-TTL:P3D
REFRESH-INTERVAL:P3D
CALSCALE:GREGORIAN
BEGIN:VEVENT
DTSTART:20180523T013000Z
DTEND:20180523T030000Z
X-MICROSOFT-CDO-ALLDAYEVENT:FALSE
SUMMARY:Essential Oils
DESCRIPTION:Learn about the powerful benefits of Pure Therapeutic Grade Essential Oils and how it can help create the health that you want! Join Polina as she reveals the basics to essential Oils\, how to use them safely and effectively\, how to blend oils for specific issues and ailments\, and have the opportunity to try some too! Learn effective ways to help improve your gut health\, managing pain\, dealing with sleep\, reducing  headaches\, reducing inflammation\, and overall education on the most common ways to use Essential Oils.
X-ALT-DESC;FMTTYPE=text/html:Learn about the powerful benefits of Pure Therapeutic Grade Essential Oils and how it can help create the health that you want! Join Polina as she reveals the basics to essential Oils\, how to use them safely and effectively\, how to blend oils for specific issues and ailments\, and have the opportunity to try some too! Learn effective ways to help improve your gut health\, managing pain\, dealing with sleep\, reducing&nbsp\; headaches\, reducing inflammation\, and overall education on the most common ways to use Essential Oils.&nbsp\;
LOCATION:Pomona Valley Hospital Medical Center 1798 N. Garey Ave.\, Pomona\, CA 91767 Women's Center Auditorium #1
UID:e.838.18897
SEQUENCE:3
DTSTAMP:20260422T054120Z
URL:https://business.claremontchamber.org/events/details/essential-oils-05-22-2018-18897
END:VEVENT

END:VCALENDAR
