BEGIN:VCALENDAR
VERSION:2.0
PRODID:-//ChamberMaster//Event Calendar 2.0//EN
METHOD:PUBLISH
X-PUBLISHED-TTL:P3D
REFRESH-INTERVAL:P3D
CALSCALE:GREGORIAN
BEGIN:VEVENT
DTSTART:20181011T013000Z
DTEND:20181011T030000Z
X-MICROSOFT-CDO-ALLDAYEVENT:FALSE
SUMMARY:Essential Oils
DESCRIPTION:Learnn about the powerful benefits of Pure Therapeutic Grade Essential Oils and how they can help create the health that you want! Join Mandy Kuhn as she reveals the basics to Essential Oils\, how to use them safely and effectively\, how to blend oils for specific issues and ailments\, and have the opportunity to try some\, too!
X-ALT-DESC;FMTTYPE=text/html:Learnn about the powerful benefits of Pure Therapeutic Grade Essential Oils and how they can help create the health that you want! Join Mandy Kuhn as she reveals the basics to Essential Oils\, how to use them safely and effectively\, how to blend oils for specific issues and ailments\, and have the opportunity to try some\, too!
LOCATION:Pomona Valley Health Center 1601 N. Monte Vista Ave.\, Claremont
UID:e.838.20294
SEQUENCE:3
DTSTAMP:20260421T132942Z
URL:https://business.claremontchamber.org/events/details/essential-oils-10-10-2018-20294
END:VEVENT

END:VCALENDAR
