BEGIN:VCALENDAR
VERSION:2.0
PRODID:-//ChamberMaster//Event Calendar 2.0//EN
METHOD:PUBLISH
X-PUBLISHED-TTL:P3D
REFRESH-INTERVAL:P3D
CALSCALE:GREGORIAN
BEGIN:VEVENT
DTSTART:20160121T023000Z
DTEND:20160121T040000Z
X-MICROSOFT-CDO-ALLDAYEVENT:FALSE
SUMMARY:Exercise\, Nutrition & YOU!
DESCRIPTION:Guest speaker and certified trainer\, Canice Barbone will disccuss:\n\n* Exercise\, truth vs myth\n\n* BMI\, Basal Metabolic Rate\, Body Fat %\n\n* Health habits and nutritional blunders\n\n* The right kind of exercise for you\n\n* Benefits of hiring a qualified personal trainer\n\n* Personal program design\n\n* Making it work!
X-ALT-DESC;FMTTYPE=text/html:Guest speaker and certified trainer\, Canice Barbone will disccuss:<br />\n* Exercise\, truth vs myth<br />\n* BMI\, Basal Metabolic Rate\, Body Fat %<br />\n* Health habits and nutritional blunders<br />\n* The right kind of exercise for you<br />\n* Benefits of hiring a qualified personal trainer<br />\n* Personal program design<br />\n* Making it work!
LOCATION:Pomona Valley Health Center\, 1601 N. Monte Vista Ave.\, Claremont
UID:e.838.11822
SEQUENCE:3
DTSTAMP:20260425T195559Z
URL:https://business.claremontchamber.org/events/details/exercise-nutrition-you-01-20-2016-11822
END:VEVENT

END:VCALENDAR
