BEGIN:VCALENDAR
VERSION:2.0
PRODID:-//ChamberMaster//Event Calendar 2.0//EN
METHOD:PUBLISH
X-PUBLISHED-TTL:P3D
REFRESH-INTERVAL:P3D
CALSCALE:GREGORIAN
BEGIN:VEVENT
DTSTART:20160804T000000Z
DTEND:20160804T020000Z
X-MICROSOFT-CDO-ALLDAYEVENT:FALSE
SUMMARY:Fairplex Multi-Chamber Mixer
DESCRIPTION:Enjoy fantastic finger foods by Finish Line Sports Bar & Grill and award-winning wines from the 2016 Los Angeles International Wine Competition Entertainment - all while mingling with other business chambers in your area!
X-ALT-DESC;FMTTYPE=text/html:<span style="color: rgb(64\, 63\, 66)\; font-family: Arial\; font-size: 13.3333px\; line-height: normal\;">Enjoy f</span><span style="color: rgb(64\, 63\, 66)\; font-family: Arial\; font-size: 13.3333px\; line-height: normal\;">antastic finger foods by&nbsp\;</span><span style="color: rgb(64\, 63\, 66)\; font-family: Arial\; font-size: 13.3333px\; line-height: normal\;">Finish Line Sports Bar &amp\; Grill and a</span><span style="color: rgb(64\, 63\, 66)\; font-family: Arial\; font-size: 13.3333px\; line-height: normal\;">ward-winning wines from the&nbsp\;</span><span style="color: rgb(64\, 63\, 66)\; font-family: Arial\; font-size: 13.3333px\; line-height: normal\;">2016 Los Angeles International Wine&nbsp\;</span><span style="color: rgb(64\, 63\, 66)\; font-family: Arial\; font-size: 13.3333px\; line-height: normal\;">Competition Entertainment - all while mingling with other business chambers in your area!</span>
LOCATION:Finish Line Sports Bar and Grill\, Gate 12 2201 N. White Ave.\, Pomona\, CA 91768
UID:e.838.12054
SEQUENCE:3
DTSTAMP:20260425T033420Z
URL:https://business.claremontchamber.org/events/details/fairplex-multi-chamber-mixer-08-03-2016-12054
END:VEVENT

END:VCALENDAR
