BEGIN:VCALENDAR
VERSION:2.0
PRODID:-//ChamberMaster//Event Calendar 2.0//EN
METHOD:PUBLISH
X-PUBLISHED-TTL:P3D
REFRESH-INTERVAL:P3D
CALSCALE:GREGORIAN
BEGIN:VEVENT
DTSTART:20181026T003000Z
DTEND:20181026T023000Z
X-MICROSOFT-CDO-ALLDAYEVENT:FALSE
SUMMARY:Farewell Cocktail Reception for Maureen Aldridge
DESCRIPTION:Please join us for a farewell cocktail reception for Maureen Aldridge.\n\nPlease RSVP by Tuesday\, October 23\, 2018.\n\nNo host bar.
X-ALT-DESC;FMTTYPE=text/html:Please join us for a farewell cocktail reception for Maureen Aldridge.<br />\nPlease RSVP by Tuesday\, October 23\, 2018.<br />\nNo host bar.
LOCATION:DoubleTree Claremont 555 W Foothill Blvd
UID:e.838.20638
SEQUENCE:3
DTSTAMP:20260421T123900Z
URL:https://business.claremontchamber.org/events/details/farewell-cocktail-reception-for-maureen-aldridge-20638
END:VEVENT

END:VCALENDAR
