BEGIN:VCALENDAR
VERSION:2.0
PRODID:-//ChamberMaster//Event Calendar 2.0//EN
METHOD:PUBLISH
X-PUBLISHED-TTL:P3D
REFRESH-INTERVAL:P3D
CALSCALE:GREGORIAN
BEGIN:VEVENT
DTSTART:20151004T010000Z
DTEND:20151004T040000Z
X-MICROSOFT-CDO-ALLDAYEVENT:FALSE
SUMMARY:First Saturday Art Walk in the Claremont Village
DESCRIPTION:First Saturday ART WALK in the Claremont Village\n\n\n\nArt exhibits at The Packing House and participating Village businesses.
X-ALT-DESC;FMTTYPE=text/html:<strong>First Saturday ART WALK in the Claremont Village</strong><br />\n<br />\nArt exhibits at The Packing House and participating Village businesses.<br />\n&nbsp\;
LOCATION:See participating locations in the Claremont Courier or visit www.claremontartwalk.com
UID:e.838.2045
SEQUENCE:3
DTSTAMP:20260426T040536Z
URL:https://business.claremontchamber.org/events/details/first-saturday-art-walk-in-the-claremont-village-10-03-2015-2045
END:VEVENT

END:VCALENDAR
