BEGIN:VCALENDAR
VERSION:2.0
PRODID:-//ChamberMaster//Event Calendar 2.0//EN
METHOD:PUBLISH
X-PUBLISHED-TTL:P3D
REFRESH-INTERVAL:P3D
CALSCALE:GREGORIAN
BEGIN:VEVENT
DTSTART:20170312T160000Z
DTEND:20170312T210000Z
X-MICROSOFT-CDO-ALLDAYEVENT:FALSE
SUMMARY:Flea Market
DESCRIPTION:This event is sponsored by Claremont Heritage.\n\n\n\nJoin Claremont Heritage for another exciting presentation of vintage and collectible items. Find a unique gift for a friend\, loved one or yourself!\n\n\n\nVendor booths with a myriad of styles represented from Arts & Crafts and Country French to Mid-century Modern! Furniture\, Artwork\, Jewelry\, Clothing and Accessories and more!
X-ALT-DESC;FMTTYPE=text/html:<em>This event is sponsored by Claremont Heritage.</em><br />\n<br />\nJoin Claremont Heritage for another exciting presentation of vintage and collectible items. Find a unique gift for a friend\, loved one or yourself!<br />\n<br />\nVendor booths with a myriad of styles represented from Arts &amp\; Crafts and Country French to Mid-century Modern! Furniture\, Artwork\, Jewelry\, Clothing and Accessories and more!
LOCATION:Garner House Courtyard | 840 N Indian Hill Blvd in Memorial Park
UID:e.838.15732
SEQUENCE:3
DTSTAMP:20260424T145241Z
URL:https://business.claremontchamber.org/events/details/flea-market-15732
END:VEVENT

END:VCALENDAR
