BEGIN:VCALENDAR
VERSION:2.0
PRODID:-//ChamberMaster//Event Calendar 2.0//EN
METHOD:PUBLISH
X-PUBLISHED-TTL:P3D
REFRESH-INTERVAL:P3D
CALSCALE:GREGORIAN
BEGIN:VEVENT
DTSTART:20181027T030000Z
DTEND:20181027T050000Z
X-MICROSOFT-CDO-ALLDAYEVENT:FALSE
SUMMARY:For F***’s Sake\, It’s Friday! Improv for the Exhausted
DESCRIPTION:Ophelia's Jump presents "For F***'s Sake\, It's Friday" is a night of improv comedy that's a little bit off the beaten path. Some might call these shows experimental. To us\, it's a night of jumping without a parachute and worrying about the consequences never. It's the perfect way to say "so long" to your boring week\, and "hello" to your awesome weekend!\n\nIN THIS SHOW:\n\nPICTURES OF SPAGHETTI PRESENTS\n\nSTEVEN SEAGAL IMPROVISED\n\nThe members of improv troupe Pictures of Spaghetti bring you an action-packed one-hour feature in the style of action hero Steven Seagal. Starring Frankie Estrella as Steven Seagal\, this experience will leave you wondering if the man is myth or legend (or BOTH?). This show contains strong improvised language and violence\, and may not be appropriate for all ages.\n\nTHE LOBBY\n\nFor over 13 years the Lobby has been delighting audiences with their signature high energy comedy. They have twice been named the "Best Improv Comedy Group" by MyFOX Los Angeles\, and are the founding team of Spectacles Improv Engine based in Orange County.
X-ALT-DESC;FMTTYPE=text/html:<p><strong>Ophelia&#39\;s Jump presents &ldquo\;For F***&rsquo\;s Sake\, It&rsquo\;s Friday&rdquo\; </strong>is a night of improv comedy that&rsquo\;s a little bit off the beaten path. Some might call these shows experimental. To us\, it&rsquo\;s a night of jumping without a parachute and worrying about the consequences never. It&rsquo\;s the perfect way to say &ldquo\;so long&rdquo\; to your boring week\, and &ldquo\;hello&rdquo\; to your awesome weekend!</p>\n\n<p>IN THIS SHOW:</p>\n\n<p>PICTURES OF SPAGHETTI PRESENTS<br />\nSTEVEN SEAGAL IMPROVISED<br />\nThe members of improv troupe Pictures of Spaghetti bring you an action-packed one-hour feature in the style of action hero Steven Seagal. Starring Frankie Estrella as Steven Seagal\, this experience will leave you wondering if the man is myth or legend (or BOTH?). This show contains strong improvised language and violence\, and may not be appropriate for all ages.</p>\n\n<p>THE LOBBY<br />\nFor over 13 years the Lobby has been delighting audiences with their signature high energy comedy. They have twice been named the &ldquo\;Best Improv Comedy Group&rdquo\; by MyFOX Los Angeles\, and are the founding team of Spectacles Improv Engine based in Orange County.</p>\n
LOCATION:2009 Porterfield Way\, Suite H\, Upland\, CA 91786 | 909 734-6565 | info@opheliasjump.org
UID:e.838.20647
SEQUENCE:3
DTSTAMP:20260421T104352Z
URL:https://business.claremontchamber.org/events/details/for-f-s-sake-it-s-friday-improv-for-the-exhausted-20647
END:VEVENT

END:VCALENDAR
