BEGIN:VCALENDAR
VERSION:2.0
PRODID:-//ChamberMaster//Event Calendar 2.0//EN
METHOD:PUBLISH
X-PUBLISHED-TTL:P3D
REFRESH-INTERVAL:P3D
CALSCALE:GREGORIAN
BEGIN:VEVENT
DTSTART:20160925T210000Z
DTEND:20160926T010000Z
X-MICROSOFT-CDO-ALLDAYEVENT:FALSE
SUMMARY:FOR YOUR INSPIRATION | Non-Profit & Volunteer Fair
DESCRIPTION:Are you looking to get more involved in Claremont and your community? Attend our Non-Profit fair with your neighbors and the Claremont Chamber Young Professionals group!\n\n \n\nWhat to expect?\n\n\n	\n	Kid\, dog friendly fun environment\n	\n	\n	Learn about your local causes:\n	\n\n\nService\, Civic\, Environment\, Animals\, Underserved Communities\, Education\, Humanitarian\, Health\, Sports and more!\n\n\n	\n	Refreshing craft beer\, yummy food and free ice cream\n	\n	\n	Surrounding yourselves around community-centered neighbors!
X-ALT-DESC;FMTTYPE=text/html:<div><span style="font-size:14px\;"><span style="font-family:arial\;">Are you looking to get more involved in Claremont and your community? Attend our Non-Profit fair with your neighbors and the Claremont Chamber Young Professionals group!</span></span><br />\n&nbsp\;</div>\n\n<p><span style="font-size:14px\;"><span style="font-family:arial\;"><strong>What to expect?</strong></span></span></p>\n\n<ul>\n	<li style="text-align:justify\;">\n	<p style="text-align: left\;"><span style="font-size:14px\;"><span style="font-family:arial\;">Kid\, dog friendly fun environment</span></span></p>\n	</li>\n	<li style="text-align:justify\;">\n	<p style="text-align: left\;"><span style="font-size:14px\;"><span style="font-family:arial\;">Learn about your local causes:</span></span></p>\n	</li>\n</ul>\n\n<p><span style="font-size:14px\;"><span style="font-family:arial\;">Service\, Civic\, Environment\, Animals\, Underserved Communities\, Education\, Humanitarian\, Health\, Sports and more!</span></span></p>\n\n<ul>\n	<li style="text-align:justify\;">\n	<p style="text-align: left\;"><span style="font-size:14px\;"><span style="font-family:arial\;">Refreshing craft beer\, yummy food and free ice cream</span></span></p>\n	</li>\n	<li style="text-align:justify\;">\n	<p style="text-align: left\;"><span style="font-size:14px\;"><span style="font-family:arial\;">Surrounding yourselves around community-centered neighbors!</span></span></p>\n	</li>\n</ul>\n
LOCATION:Claremont Craft Ales 1420 N Claremont Blvd #204C Claremont\, CA 91711
UID:e.838.13621
SEQUENCE:3
DTSTAMP:20260425T021637Z
URL:https://business.claremontchamber.org/events/details/for-your-inspiration-non-profit-volunteer-fair-13621
END:VEVENT

END:VCALENDAR
