BEGIN:VCALENDAR
VERSION:2.0
PRODID:-//ChamberMaster//Event Calendar 2.0//EN
METHOD:PUBLISH
X-PUBLISHED-TTL:P3D
REFRESH-INTERVAL:P3D
CALSCALE:GREGORIAN
BEGIN:VEVENT
DTSTART:20160128T200000Z
DTEND:20160128T213000Z
X-MICROSOFT-CDO-ALLDAYEVENT:FALSE
SUMMARY:Free Community Luncheon: What's on the horizon at Casa Colina?
DESCRIPTION:
X-ALT-DESC;FMTTYPE=text/html:
LOCATION:Casa Colina Hospital and Centers for Healthcare 255 East Bonita Ave. Pomona Building 1D\, Tamkin Room\, Norin Education Center
UID:e.838.11903
SEQUENCE:3
DTSTAMP:20260425T225203Z
URL:https://business.claremontchamber.org/events/details/free-community-luncheon-what-s-on-the-horizon-at-casa-colina-01-28-2016-11903
END:VEVENT

END:VCALENDAR
