BEGIN:VCALENDAR
VERSION:2.0
PRODID:-//ChamberMaster//Event Calendar 2.0//EN
METHOD:PUBLISH
X-PUBLISHED-TTL:P3D
REFRESH-INTERVAL:P3D
CALSCALE:GREGORIAN
BEGIN:VEVENT
DTSTART:20161111T200000Z
DTEND:20161111T210000Z
X-MICROSOFT-CDO-ALLDAYEVENT:FALSE
SUMMARY:Free Community Seminar: Build Your Legacy with Charitable Planning
DESCRIPTION:This event is sponsored by Casa Colina Hospital and Centers for Healthcare.\n\n\n\nSpace is limited! Please join us for a complimentary lunch and to learn strategies to maximize impact without disinheriting your family.
X-ALT-DESC;FMTTYPE=text/html:<p><span style="font-size:12px\;"><span style="font-family:arial\;"><em>This event is sponsored by Casa Colina Hospital and Centers for Healthcare.</em><br />\n<br />\nSpace is limited! Please join us for a&nbsp\;complimentary lunch and to&nbsp\;learn strategies to maximize impact without disinheriting your family.</span></span></p>\n
LOCATION:William W. Norin Educational Center in the Tamkin Room (Building 1D) 255 East Bonita Ave. (at Garey) Pomona\, Ca
UID:e.838.14073
SEQUENCE:3
DTSTAMP:20260424T222936Z
URL:https://business.claremontchamber.org/events/details/free-community-seminar-build-your-legacy-with-charitable-planning-14073
END:VEVENT

END:VCALENDAR
