BEGIN:VCALENDAR
VERSION:2.0
PRODID:-//ChamberMaster//Event Calendar 2.0//EN
METHOD:PUBLISH
X-PUBLISHED-TTL:P3D
REFRESH-INTERVAL:P3D
CALSCALE:GREGORIAN
BEGIN:VEVENT
DTSTART:20171203T200000Z
DTEND:20171204T000000Z
X-MICROSOFT-CDO-ALLDAYEVENT:FALSE
SUMMARY:Free Family Day and ARTStation at the Claremont Museum of Art
DESCRIPTION:This event is sponsored by Claremont Museum of Art.\n\n\n\nVisit the Claremont Museum of Art on the first Sunday of the every month from noon to 4pm for Free Family Day with free admission and ARTStation\, a place for children to experience art and engage with local culture. High school students in CMA's Project ARTstART lead visitors in an art activity related to the current exhibition. ARTStation is sponsored by Wheeler Steffen Sotheby's International Realty and Broadview Mortgage.
X-ALT-DESC;FMTTYPE=text/html:<em>This event is sponsored by Claremont Museum of Art.</em><br />\n<br />\nVisit the Claremont Museum of Art on the first Sunday of the every month from noon to 4pm for Free Family Day with free admission and <strong>ARTStation\,</strong> a place for children to experience art and engage with local culture. High school students in CMA&rsquo\;s <strong>Project ARTstART</strong> lead visitors in an art activity related to the current exhibition.<strong> ARTStation</strong> is sponsored by Wheeler Steffen Sotheby&rsquo\;s International Realty and Broadview Mortgage.<br />\n<br />\n&nbsp\;
LOCATION:Located at the historic Claremont Depot\, the Claremont Museum of Art is in the Village at 200 W. First Street\, just steps away from the Metrolink Station.
UID:e.838.16676
SEQUENCE:3
DTSTAMP:20260423T111625Z
URL:https://business.claremontchamber.org/events/details/free-family-day-and-artstation-at-the-claremont-museum-of-art-12-03-2017-16676
END:VEVENT

END:VCALENDAR
