BEGIN:VCALENDAR
VERSION:2.0
PRODID:-//ChamberMaster//Event Calendar 2.0//EN
METHOD:PUBLISH
X-PUBLISHED-TTL:P3D
REFRESH-INTERVAL:P3D
CALSCALE:GREGORIAN
BEGIN:VEVENT
DTSTART:20180830T190000Z
DTEND:20180830T200000Z
X-MICROSOFT-CDO-ALLDAYEVENT:FALSE
SUMMARY:Free Social Media Marketing & Networking Lunch - August 2018
DESCRIPTION:**Limited Seating**\n\n\n\nThis event is for Chamber Members only. \n\n\n\nBring your lunch and join us for an informal social media marketing meeting on Thursday\, August 30 from 12 pm - 1 pm.\n\n\n\nAt this meeting you will get an overview of your membership portal on Chamber Masters and see how it links to your social media accounts.\n\n\n\nYou will also have the opportunity to exchange ideas with other chamber members.\n\n\n\nContact us for more info!\n\nadmin@claremontchamber.org
X-ALT-DESC;FMTTYPE=text/html:<strong>**Limited Seating**<br />\n<br />\nThis event is for Chamber Members only.&nbsp\;</strong><br />\n<br />\nBring your lunch and join us for an informal social media marketing meeting on Thursday\, August 30 from 12 pm - 1 pm.<br background-color:="" font-size:="" font-variant-ligatures:="" montserrat="" />\n<br />\nAt this meeting you will get an overview of your membership portal on Chamber Masters and see how it links to your social media accounts.<br />\n<br background-color:="" font-size:="" font-variant-ligatures:="" montserrat="" />\nYou will also have the opportunity to exchange ideas with other chamber members.<br background-color:="" font-size:="" font-variant-ligatures:="" montserrat="" />\n<br background-color:="" font-size:="" font-variant-ligatures:="" montserrat="" />\nContact us for more info!<br background-color:="" font-size:="" font-variant-ligatures:="" montserrat="" />\nadmin@claremontchamber.org
LOCATION:205 Yale Ave. Claremont\, CA 91711
UID:e.838.20165
SEQUENCE:3
DTSTAMP:20260422T021318Z
URL:https://business.claremontchamber.org/events/details/free-social-media-marketing-networking-lunch-august-2018-20165
END:VEVENT

END:VCALENDAR
