BEGIN:VCALENDAR
VERSION:2.0
PRODID:-//ChamberMaster//Event Calendar 2.0//EN
METHOD:PUBLISH
X-PUBLISHED-TTL:P3D
REFRESH-INTERVAL:P3D
CALSCALE:GREGORIAN
BEGIN:VEVENT
DTSTART:20180530T190000Z
DTEND:20180530T200000Z
X-MICROSOFT-CDO-ALLDAYEVENT:FALSE
SUMMARY:Free Social Media Marketing & Networking Lunch - May
DESCRIPTION:This event is for Chamber Members only. \n\n\n\nBring your lunch and join us for an informal social media marketing meeting on Wednesday\, May 30 from 12pm-1pm.\n\n\n\nAt this lunch\, you will have the opportunity to exchange ideas with other chamber members.\n\n\n\nContact us for more info!\n\nadmin@claremontchamber.org
X-ALT-DESC;FMTTYPE=text/html:<strong>This event is for Chamber Members only.&nbsp\;</strong><br />\n<br />\nBring your lunch and join us for an informal social media marketing meeting on Wednesday\, May 30&nbsp\;from 12pm-1pm.<br background-color:="" font-size:="" font-variant-ligatures:="" montserrat="" />\n<br background-color:="" font-size:="" font-variant-ligatures:="" montserrat="" />\nAt this lunch\, you will have the opportunity to exchange ideas with other chamber members.<br background-color:="" font-size:="" font-variant-ligatures:="" montserrat="" />\n<br background-color:="" font-size:="" font-variant-ligatures:="" montserrat="" />\nContact us for more info!<br background-color:="" font-size:="" font-variant-ligatures:="" montserrat="" />\nadmin@claremontchamber.org
LOCATION:205 Yale Ave. Claremont\, CA 91711
UID:e.838.18882
SEQUENCE:3
DTSTAMP:20260422T090144Z
URL:https://business.claremontchamber.org/events/details/free-social-media-marketing-networking-lunch-may-18882
END:VEVENT

END:VCALENDAR
