BEGIN:VCALENDAR
VERSION:2.0
PRODID:-//ChamberMaster//Event Calendar 2.0//EN
METHOD:PUBLISH
X-PUBLISHED-TTL:P3D
REFRESH-INTERVAL:P3D
CALSCALE:GREGORIAN
BEGIN:VEVENT
DTSTART:20260516T010000Z
DTEND:20260516T040000Z
X-MICROSOFT-CDO-ALLDAYEVENT:FALSE
SUMMARY:Friday Nights Live
DESCRIPTION:Friday Nights Live is free live music open to the public.\n\nDine and shop the local businesses in the Claremont Village\, after drop by to listen to great tunes!\n\n\n\n\n\n  Friday Nights Live is almost here!\n\n\n\nDepot / Claremont Lewis Museum of Art is the new location for Friday Nights Live. Make sure to drop by the @claremont_lmoa \n\n\n\nMay's Schedule:\n\n\n\nFriday\, May 1\n\nPlaza - Pride of Cucamonga - 60?s psychedelia\n\nShelton - Arrow Hwy. - blues rock\n\nDepot / Claremont Lewis Museum of Art - The Claremont Voodoo Society - Americana\n\n\n\nFriday\, May 8\n\nPlaza - Cougar Estrada & Friends - jazz pop\n\nShelton - Ian Ballard & Silver Wings - rock\n\nDepot / Claremont Lewis Museum of Art - ?Solid? Ray Woods\n\n\n\nFriday\, May 15\n\nPlaza - KROQodiles - 80s Hits\n\nShelton - Coyote Moon - Americana\n\nDepot / Claremont Lewis Museum of Art - KolekonaUke - Hawaiian standards\n\n\n\nFriday\, May 22\n\nPlaza - The Country Squires - deep covers\n\nShelton - The Swingin? Doors - country pop\n\nDepot / Claremont Lewis Museum of Art - Claremont Community School of Music Jazz Ensemble\n\n\n\nFriday\, May 29\n\nPlaza - Dynamite Dawson - acoustic rock\n\nShelton - Blue Doom - surf rock\n\nDepot / Claremont Lewis Museum of Art - Jasmine\n\n\n\nThank you to our sponsors\, your sponsorship makes Friday Nights Live possible:\n\n\n\n@cityofclaremont \n\n@claremontvillagesquare\n\n@uniononyale \n\n@petiscosclaremont \n\n@thebackabbey \n\n\n\nClick here to Sponsor Friday Nights Live Today!
X-ALT-DESC;FMTTYPE=text/html:<p>Friday Nights Live is free live music open to the public.</p>\n\n<p>Dine and shop the local businesses in the Claremont Village\, after drop by to listen to great tunes!<br />\n<br />\n<br />\n&#127928\; Friday Nights Live is almost here!<br />\n<br />\nDepot / Claremont Lewis Museum of Art is the new location for Friday Nights Live. Make sure to drop by the @claremont_lmoa&nbsp\;<br />\n<br />\nMay&#39\;s Schedule:<br />\n<br />\n<strong>Friday\, May 1</strong><br />\nPlaza - Pride of Cucamonga - 60?s psychedelia<br />\nShelton - Arrow Hwy. - blues rock<br />\nDepot / Claremont Lewis Museum of Art - The Claremont Voodoo Society - Americana<br />\n<br />\n<strong>Friday\, May 8</strong><br />\nPlaza - Cougar Estrada &amp\; Friends - jazz pop<br />\nShelton - Ian Ballard &amp\; Silver Wings - rock<br />\nDepot / Claremont Lewis Museum of Art - ?Solid? Ray Woods<br />\n<br />\n<strong>Friday\, May 15</strong><br />\nPlaza - KROQodiles - 80s Hits<br />\nShelton - Coyote Moon - Americana<br />\nDepot / Claremont Lewis Museum of Art - KolekonaUke - Hawaiian standards<br />\n<br />\n<strong>Friday\, May 22</strong><br />\nPlaza - The Country Squires - deep covers<br />\nShelton - The Swingin? Doors - country pop<br />\nDepot / Claremont Lewis Museum of Art - Claremont Community School of Music Jazz Ensemble<br />\n<br />\n<strong>Friday\, May 29</strong><br />\nPlaza - Dynamite Dawson - acoustic rock<br />\nShelton - Blue Doom - surf rock<br />\nDepot / Claremont Lewis Museum of Art - Jasmine<br />\n<br />\nThank you to our sponsors\, your sponsorship makes Friday Nights Live possible:<br />\n<br />\n@cityofclaremont&nbsp\;<br />\n@claremontvillagesquare<br />\n@uniononyale&nbsp\;<br />\n@petiscosclaremont&nbsp\;<br />\n@thebackabbey&nbsp\;<br />\n<br />\n<strong><span style="font-size:20px\;"><a href="https://form.jotform.com/260207028707149">Click here to Sponsor Friday Nights Live Today!&nbsp\;</a></span></strong></p>\n
LOCATION:In front of Claremont Lewis Museum of Art 200 W 1st St\, Claremont\, CA 91711 Village Plaza 101 N Indian Hill\, Claremont\, CA 91711 Shelton Park W. Bonita & N. Harvard Ave.\, CA 91711
UID:e.838.48786
SEQUENCE:3
DTSTAMP:20260421T115631Z
URL:https://business.claremontchamber.org/events/details/friday-nights-live-05-15-2026-48786
END:VEVENT

END:VCALENDAR
