BEGIN:VCALENDAR
VERSION:2.0
PRODID:-//ChamberMaster//Event Calendar 2.0//EN
METHOD:PUBLISH
X-PUBLISHED-TTL:P3D
REFRESH-INTERVAL:P3D
CALSCALE:GREGORIAN
BEGIN:VEVENT
DTSTART:20171021T010000Z
DTEND:20171021T040000Z
X-MICROSOFT-CDO-ALLDAYEVENT:FALSE
SUMMARY:Friday Nights Live! in The Claremont Village
DESCRIPTION:Come stroll\, eat\, shop and browse\, with terrific FREE music in Claremont Village's ambiance.\n\n\n\nBands will be performing Fridays from 6 pm - 9 pm\, from the first Friday in May through to the last Friday in October.\n\n\n\nSwing Shift (Swing/Jazz) - Public Plaza\n\nAmazing Tone Benders (Oldies) - Claremont Chamber\n\nThe Dogs (Rock) - Shelton Park\n\nMike's Guitar World - City Hall\n\nFriday Nights Live! (FNL) is brought to you by Claremont Chamber of Commerce\, The City of Claremont\, Claremont Village Marketing Group and Claremont Village Square.\n\n\n\nContact Claremont Chamber of Commerce with questions @ 909-624-1681 or go to http://www.claremontchamber.org/pages/FridayNightsLive.
X-ALT-DESC;FMTTYPE=text/html:<p><span style="font-size:12px\;"><span style="color: rgb(29\, 33\, 41)\; line-height: 18px\;">Come stroll\, eat\, shop and browse\, with terrific FREE music in Claremont Village&rsquo\;s ambiance.</span><br style="color: rgb(29\, 33\, 41)\; font-family: helvetica\, arial\, sans-serif\; font-size: 14px\; line-height: 18px\;" />\n<br />\n<span style="color: rgb(29\, 33\, 41)\; line-height: 18px\;">Bands will be performing Fridays from 6 pm - </span></span><span style="font-family:tahoma\;"><span style="color: rgb(29\, 33\, 41)\; font-size: 14px\; line-height: 18px\;"><span><span style="font-size:12px\;">9 pm</span></span></span></span><span style="font-size:12px\;"><span style="color: rgb(29\, 33\, 41)\; line-height: 18px\;">\, from the first Friday in May through to the last Friday in October.</span></span></p>\n\n<div helvetica="" style="box-sizing: border-box\; color: rgb(58\, 58\, 58)\;" text-align:=""><br />\n<span style="color: rgb(29\, 33\, 41)\; font-family: arial\; font-size: 14px\; background-color: rgb(255\, 255\, 255)\;">Swing Shift (Swing/Jazz) - Public Plaza</span><br style="color: rgb(29\, 33\, 41)\; font-family: arial\; font-size: 14px\; background-color: rgb(255\, 255\, 255)\;" />\n<span style="color: rgb(29\, 33\, 41)\; font-family: arial\; font-size: 14px\; background-color: rgb(255\, 255\, 255)\;">Amazing Tone Benders (Oldies) - Claremont Chamber</span><br style="color: rgb(29\, 33\, 41)\; font-family: arial\; font-size: 14px\; background-color: rgb(255\, 255\, 255)\;" />\n<span style="color: rgb(29\, 33\, 41)\; font-family: arial\; font-size: 14px\; background-color: rgb(255\, 255\, 255)\;">The Dogs (Rock) - Shelton Park</span><br style="color: rgb(29\, 33\, 41)\; font-family: arial\; font-size: 14px\; background-color: rgb(255\, 255\, 255)\;" />\n<span style="color: rgb(29\, 33\, 41)\; font-family: arial\; font-size: 14px\; background-color: rgb(255\, 255\, 255)\;">Mike&#39\;s Guitar World - City Hall</span><br />\n<span style="font-size:12px\;"><a href="https://www.facebook.com/fridaynighstlive/">Friday Nights Live! (FNL)</a> is brought to you by Claremont Chamber of Commerce\, The City of Claremont\, Claremont Village Marketing Group and Claremont Village Square.<br />\n<br />\n<span style="color: rgb(75\, 79\, 86)\; font-family: Helvetica\, Arial\, sans-serif\;">Contact Claremont Chamber of Commerce with questions @ 909-624-1681 or go to&nbsp\;</span><a href="http://www.claremontchamber.org/pages/FridayNightsLive" rel="nofollow noopener nofollow" style="color: rgb(54\, 88\, 153)\; cursor: pointer\; text-decoration-line: none\; font-family: Helvetica\, Arial\, sans-serif\; font-size: 14px\;" target="_blank">http://<wbr />www.claremontchamber.org/<wbr />pages/FridayNightsLive</a><span style="color: rgb(75\, 79\, 86)\; font-family: Helvetica\, Arial\, sans-serif\;">.</span></span></div>\n
LOCATION:Public Plaza | 101 North Indian Hill Claremont Chamber | 205 Yale Ave City Hall | 225 Second St. Shelton Park | Bonita & Harvard Ave.
UID:e.838.16324
SEQUENCE:3
DTSTAMP:20260423T231300Z
URL:https://business.claremontchamber.org/events/details/friday-nights-live-in-the-claremont-village-10-20-2017-16324
END:VEVENT

END:VCALENDAR
