BEGIN:VCALENDAR
VERSION:2.0
PRODID:-//ChamberMaster//Event Calendar 2.0//EN
METHOD:PUBLISH
X-PUBLISHED-TTL:P3D
REFRESH-INTERVAL:P3D
CALSCALE:GREGORIAN
BEGIN:VEVENT
DTSTART:20151024T010000Z
DTEND:20151024T040000Z
X-MICROSOFT-CDO-ALLDAYEVENT:FALSE
SUMMARY:Friday Nights LIVE! in The Claremont Village
DESCRIPTION:Friday Nights LIVE! in The Claremont Village\, music to entertain you and your family while you shop\, eat and browse the quaint village streets of Claremont.\n\n\n\nFor Line-up (click here)
X-ALT-DESC;FMTTYPE=text/html:Friday Nights LIVE! in The Claremont Village\, music to entertain you and your family while you shop\, eat and browse the quaint village streets of Claremont.<br />\n<br />\nFor Line-up <a href="http://www.claremontchamber.org/pages/FridayNightsLive">(click here)</a>
LOCATION:Venues: (CC) Claremont Chamber of Commerce\, 205 Yale Avenue\, Claremont 91711 (PP) Public Plaza\, 101 N Indian Hill Blvd.\, Claremont 91711 CC (Council Chambers Patio\, 225 W Second Street\, Claremont 91711
UID:e.838.8532
SEQUENCE:3
DTSTAMP:20260426T040440Z
URL:https://business.claremontchamber.org/events/details/friday-nights-live-in-the-claremont-village-10-23-2015-8532
END:VEVENT

END:VCALENDAR
