BEGIN:VCALENDAR
VERSION:2.0
PRODID:-//ChamberMaster//Event Calendar 2.0//EN
METHOD:PUBLISH
X-PUBLISHED-TTL:P3D
REFRESH-INTERVAL:P3D
CALSCALE:GREGORIAN
BEGIN:VEVENT
DTSTART:20180624T210000Z
DTEND:20180624T221500Z
X-MICROSOFT-CDO-ALLDAYEVENT:FALSE
SUMMARY:Goat Yoga
DESCRIPTION:Join us Sunday June 24th for Goat Yoga. We will practice for 1 hr and 15 mins with the presence of 2 Pygmy goats. \n\n\n\nYes\, there will be time after class for photos.
X-ALT-DESC;FMTTYPE=text/html:Join us Sunday June 24th for Goat Yoga. We will practice for 1 hr and 15 mins with the presence of 2 Pygmy goats.&nbsp\;<br />\n<br />\nYes\, there will be time after class for photos.&nbsp\;
LOCATION:Hot Yoga Claremont 859 W. Foothill Blvd. Claremont Ca 91711
UID:e.838.18906
SEQUENCE:3
DTSTAMP:20260422T064731Z
URL:https://business.claremontchamber.org/events/details/goat-yoga-18906
END:VEVENT

END:VCALENDAR
