BEGIN:VCALENDAR
VERSION:2.0
PRODID:-//ChamberMaster//Event Calendar 2.0//EN
METHOD:PUBLISH
X-PUBLISHED-TTL:P3D
REFRESH-INTERVAL:P3D
CALSCALE:GREGORIAN
BEGIN:VEVENT
DTSTART:20161210T170000Z
DTEND:20161210T190000Z
X-MICROSOFT-CDO-ALLDAYEVENT:FALSE
SUMMARY:Green Crew Planting at College Park
DESCRIPTION:This event is sponsored by Sustainable Claremont.\n\n\n\nJoin Sustainable Claremont's Green Crew and Claremont Community Services to plant shrubs at College Park. Please register at least a day in advance by contacting us at greencrew@sustainableclaremont.org or (909) 625-8767 x 238. This is a smaller project that will only need about 12 volunteers. Bring gloves\, hats\, refreshments\, and shovels (some will be available). As always\, children are welcome! A liability form will be available for all to complete. Guardians must sign it for minors to participate. To get the liability form ahead of time\, or ask questions\, please contact us as mentioned above.
X-ALT-DESC;FMTTYPE=text/html:<em>This event is sponsored by Sustainable Claremont.</em><br />\n<br />\nJoin Sustainable Claremont&#39\;s Green Crew and Claremont Community Services to plant shrubs at College Park. Please register at least a day in advance by contacting us at greencrew@sustainableclaremont.org or (909) 625-8767 x 238. This is a smaller project that will only need about 12 volunteers. Bring gloves\, hats\, refreshments\, and shovels (some will be available). As always\, children are welcome! A liability form will be available for all to complete. Guardians must sign it for minors to participate. To get the liability form ahead of time\, or ask questions\, please contact us as mentioned above.
LOCATION:College Park 150 S College Ave. Claremont\, CA 91711
UID:e.838.14107
SEQUENCE:3
DTSTAMP:20260424T200323Z
URL:https://business.claremontchamber.org/events/details/green-crew-planting-at-college-park-14107
END:VEVENT

END:VCALENDAR
